BEGIN:VCALENDAR
VERSION:2.0
PRODID:-//ChamberMaster//Event Calendar 2.0//EN
METHOD:PUBLISH
X-PUBLISHED-TTL:P3D
REFRESH-INTERVAL:P3D
CALSCALE:GREGORIAN
BEGIN:VEVENT
DTSTART:20251015T220000Z
DTEND:20251015T230000Z
X-MICROSOFT-CDO-ALLDAYEVENT:FALSE
SUMMARY:Valley VNA Senior Care - Options & Solutions: Navigating Senior Care
DESCRIPTION:Join us for a free\, informative session at Valley VNA Senior Care\, led by a trusted Registered Nurse and Senior Living Advisor. As a nonprofit serving our community for over 100 years\, we're here to help seniors and their families navigate services and resources as needs change. No registration required.\n\n	\n	Senior Housing\n\n	Learn more about independent and assisted living options in the area.\n	\n	\n	In-Home Care\n\n	Explore ways to maintain independence while getting extra help with dressing\, bathing\, meals\, housekeeping\, companionship\, and more.\n	\n	\n	Community Programs\n\n	Discover resources such as home-delivered meals\, respite care\, foot care\, and transportation services.
X-ALT-DESC;FMTTYPE=text/html:Join us for a free\, informative session at Valley VNA Senior Care\, led by a trusted Registered Nurse and Senior Living Advisor. As a nonprofit serving our community for over 100 years\, we&rsquo\;re here to help seniors and their families navigate services and resources as needs change. No registration required.\n<ul>\n	<li>\n	<p><strong>Senior Housing</strong><br />\n	Learn more about independent and assisted living options in the area.</p>\n	</li>\n	<li>\n	<p><strong>In-Home Care</strong><br />\n	Explore ways to maintain independence while getting extra help with dressing\, bathing\, meals\, housekeeping\, companionship\, and more.</p>\n	</li>\n	<li>\n	<p><strong>Community Programs</strong><br />\n	Discover resources such as home-delivered meals\, respite care\, foot care\, and transportation services.</p>\n	</li>\n</ul>\n
LOCATION:Valley VNA Senior Care 1535 Lyon Dr. Neenah
UID:e.2456.5766
SEQUENCE:3
DTSTAMP:20260425T210504Z
URL:https://business.heartofthevalleychamber.com/events/details/valley-vna-senior-care-options-solutions-navigating-senior-care-5766
END:VEVENT

END:VCALENDAR
