BEGIN:VCALENDAR
VERSION:2.0
PRODID:-//ChamberMaster//Event Calendar 2.0//EN
METHOD:PUBLISH
X-PUBLISHED-TTL:P3D
REFRESH-INTERVAL:P3D
CALSCALE:GREGORIAN
BEGIN:VEVENT
DTSTART:20251002T103000Z
DTEND:20251002T140000Z
X-MICROSOFT-CDO-ALLDAYEVENT:FALSE
SUMMARY:Valley VNA Senior Care - Caring Through the Decades
DESCRIPTION:Join Valley VNA Senior Care October 2 at the Best Western Bridgewood Resort for this fun-filled fundraiser with food\, music by Kate Voss & the Hot Sauce\, and auction items while supporting our area seniors.\n\n \n\nOur Caring Through the Decades Gala invites you to add a touch of vintage flair to the evening\, whether it's the glamour of the Roaring '20s\, the charm of the '50s\, or a classic look with sleek suits and swing skirts. Dress to celebrate the decades in timeless style.\n\n \n\nWe are a Diamond Accredited Assisted Living and inspire purposeful\, pleasurable\, and peaceful living. All funds raised will be directed to Valley VNA programming for in-home care clients and residents of Valley VNA\, community programs\, and essential items needed to enhance the care we provide. Tickets are $100 each\, or reserve a table for 10 for $1\,000.\n\n \n\nIf you would like to donate a basket or sponsor the event\, please reach out to Tracy Nikolai\, Director of Marketing & Development at tracyn@valleyvna.org or 920-727-5555.
X-ALT-DESC;FMTTYPE=text/html:<div>Join Valley VNA Senior Care&nbsp\;<strong>October 2 at the Best Western Bridgewood Resort&nbsp\;</strong>for this fun-filled fundraiser with food\, music by Kate Voss &amp\; the Hot Sauce\, and auction items while supporting our area seniors.</div>\n\n<div>&nbsp\;</div>\n\n<div>Our Caring Through the Decades Gala invites you to add a touch of vintage flair to the evening\, whether it&rsquo\;s the glamour of the Roaring &rsquo\;20s\, the charm of the &rsquo\;50s\, or a classic look with sleek suits and swing skirts. Dress to celebrate the decades in timeless style.</div>\n\n<div>&nbsp\;</div>\n\n<div>We are a Diamond Accredited Assisted Living and inspire purposeful\, pleasurable\, and peaceful living. All funds raised will be directed to Valley VNA programming for in-home care clients and residents of Valley VNA\, community programs\, and essential items needed to enhance the care we provide. Tickets are $100 each\, or reserve a table for 10 for $1\,000.</div>\n\n<div>&nbsp\;</div>\n\n<div>If you would like to donate a basket or sponsor the event\, please reach out to Tracy Nikolai\, Director of Marketing &amp\; Development at tracyn@valleyvna.org or 920-727-5555.</div>\n
LOCATION:Best Western Bridgewood Resort 1000 Cameron Way Neenah\, WI 54956
UID:e.2456.5754
SEQUENCE:3
DTSTAMP:20260425T210641Z
URL:https://business.heartofthevalleychamber.com/events/details/valley-vna-senior-care-caring-through-the-decades-5754
END:VEVENT

END:VCALENDAR
