BEGIN:VCALENDAR
VERSION:2.0
PRODID:-//ChamberMaster//Event Calendar 2.0//EN
METHOD:PUBLISH
X-PUBLISHED-TTL:P3D
REFRESH-INTERVAL:P3D
CALSCALE:GREGORIAN
BEGIN:VEVENT
DTSTART:20251021T210000Z
DTEND:20251021T230000Z
X-MICROSOFT-CDO-ALLDAYEVENT:FALSE
SUMMARY:Trunk or Treat at Aurora Baycare
DESCRIPTION:The community is invited to join us for as we partner with Aurora BayCare Health Center for our 4th Annual Trunk or Treat event!  \n\nThis event is FREE for kiddos to participate in! There will be over 50 trunks to stop at collect treats\, play games and do cool activities. Each trunk will be hosted by a local business or Aurora BayCare department. The event will also feature "Touch a Truck" for an interactive experience. Friendly costumes are encouraged for all and the event is great for kids of all ages.
X-ALT-DESC;FMTTYPE=text/html:<strong><span style="font-size:14px\;"><span style="font-family:arial\;">The community is invited to join us for as we partner with Aurora BayCare Health Center for our 4th Annual Trunk or Treat event!&nbsp\; </span></span></strong>\n<div class="x11i5rnm xat24cr x1mh8g0r x1vvkbs xtlvy1s x126k92a" style="margin: 0.5em 0px 0px\; white-space-collapse: preserve\; overflow-wrap: break-word\; font-family: &quot\;Segoe UI Historic&quot\;\, &quot\;Segoe UI&quot\;\, Helvetica\, Arial\, sans-serif\; color: rgb(5\, 5\, 5)\; font-size: 15px\;">\n<div dir="auto" style="font-family: inherit\;"><span style="font-size:14px\;"><span style="font-family:arial\;">This event is <strong>FREE</strong> for kiddos to participate in! There will be over 50 trunks to stop at collect treats\, play games and do cool activities. </span></span><span style="font-size:14px\;"><span style="font-family:arial\;">Each trunk will be hosted by a local business or Aurora BayCare department. The event will also feature &quot\;Touch a Truck&quot\; for an interactive experience. </span></span><span style="font-size:14px\;"><span style="font-family:arial\;">Friendly costumes are encouraged for all and the event is great for kids of all ages.</span></span><br />\n<br />\n<br />\n&nbsp\;</div>\n</div>\n
LOCATION:Aurora BayCare Parking Lot 1500 Arbor Way Kaukauna\, WI
UID:e.2456.4612
SEQUENCE:3
DTSTAMP:20260425T210641Z
URL:https://business.heartofthevalleychamber.com/events/details/trunk-or-treat-at-aurora-baycare-4612
END:VEVENT

END:VCALENDAR
