BEGIN:VCALENDAR
VERSION:2.0
PRODID:-//ChamberMaster//Event Calendar 2.0//EN
METHOD:PUBLISH
X-PUBLISHED-TTL:P3D
REFRESH-INTERVAL:P3D
CALSCALE:GREGORIAN
BEGIN:VEVENT
DTSTART:20251112T130000Z
DTEND:20251112T150000Z
X-MICROSOFT-CDO-ALLDAYEVENT:FALSE
SUMMARY:Startup Resources & Coffee
DESCRIPTION:?Start your day with coffee\, new connections\, and the startup resources you need to grow your business!\nGet the answers you need.\n\n?This is a safe space to ask any questions because there are no stupid questions when it comes to building a business.\n\n\n\nWhy? Because no one should be expected to know it all.\n\n?Join us for a casual morning gathering where entrepreneurs and founders can meet face-to-face with key resource providers from the Green Bay area.\n\n?Whether you're just starting out\, scaling up\, or somewhere in between\, this is your chance to get expert guidance\, ask questions\, and discover the support available to help you and your business thrive.\n\n?\n\n?Meet with experts in:\n\n\n	\n	?Legal services and business structure\n	\n	\n	?Accelerator programs\, funding\, and mentorship\n	\n	\n	?Startup community resources\n	\n	\n	?HR consulting and team building\n	\n	\n	?Business insurance and risk management\n	\n	\n	?Local entrepreneurship support\n	\n\n\n?\n\n?Meet other entrepreneurs\n\n?Find your people and make new friends that understand the founder journey. Connect with fellow founders who get the highs and lows of building something from scratch. Share wins\, swap stories\, and build relationships with others who speak your language. The startup path can feel isolating this is your chance to realize you're not alone and to build a support network that extends beyond this event.\n\n?\n\n?Find the connections and support you need\n\n?Come with your questions\, leave with connections and actionable next steps. Drop in anytime between 7-9am no formal agenda\, just great conversation and even better coffee.\n\n?Part of Startup Wisconsin Week   celebrating and supporting Wisconsin's entrepreneurial community!
X-ALT-DESC;FMTTYPE=text/html:<span style="background-color:rgb(243\, 245\, 247)\; color:rgb(13\, 21\, 28)\; font-family:-apple-system\,blinkmacsystemfont\,apple color emoji\,inter\,roboto\,segoe ui\,helvetica neue\,arial\,noto sans\,sans-serif\; font-size:medium">?Start your day with coffee\, new connections\, and the startup resources you need to grow your business!</span>\n<h1>Get the answers you need.</h1>\n\n<p>?This is a safe space to ask any questions because there are no stupid questions when it comes to building a business.<br />\n<br />\nWhy? Because no one should be expected to know it all.</p>\n\n<p>?Join us for a casual morning gathering where entrepreneurs and founders can meet face-to-face with key resource providers from the Green Bay area.</p>\n\n<p>?Whether you&#39\;re just starting out\, scaling up\, or somewhere in between\, this is your chance to get expert guidance\, ask questions\, and discover the support available to help you and your&nbsp\;business thrive.</p>\n\n<p>?</p>\n\n<h1>?Meet with experts in:</h1>\n\n<ul>\n	<li>\n	<p>?Legal services and business structure</p>\n	</li>\n	<li>\n	<p>?Accelerator programs\, funding\, and mentorship</p>\n	</li>\n	<li>\n	<p>?Startup community resources</p>\n	</li>\n	<li>\n	<p>?HR consulting and team building</p>\n	</li>\n	<li>\n	<p>?Business insurance and risk management</p>\n	</li>\n	<li>\n	<p>?Local entrepreneurship support</p>\n	</li>\n</ul>\n\n<p>?</p>\n\n<h1>?Meet other entrepreneurs</h1>\n\n<p>?Find your people and make new friends that understand the founder journey. Connect with fellow founders who get the highs and lows of building something from scratch. Share wins\, swap stories\, and build relationships with others who speak your language. The startup path can feel isolating&mdash\;this is your chance to realize you&#39\;re not alone and to build a support network that extends beyond this event.</p>\n\n<p>?</p>\n\n<h1>?Find the connections and support you need</h1>\n\n<p>?Come with your questions\, leave with connections and actionable next steps. Drop in anytime between 7-9am&mdash\;no formal agenda\, just great conversation and even better coffee.</p>\n\n<p>?Part of Startup Wisconsin Week &ndash\; celebrating and supporting Wisconsin&#39\;s entrepreneurial community!</p>\n
LOCATION:Kavarna Coffeehouse 143 N Broadway\, Green Bay\, WI 54303\, USA Meet us in the lower level tables in the back of Kavarna
UID:e.2456.5801
SEQUENCE:3
DTSTAMP:20260425T193759Z
URL:https://business.heartofthevalleychamber.com/events/details/startup-resources-coffee-5801
END:VEVENT

END:VCALENDAR
