BEGIN:VCALENDAR
VERSION:2.0
PRODID:-//ChamberMaster//Event Calendar 2.0//EN
METHOD:PUBLISH
X-PUBLISHED-TTL:P3D
REFRESH-INTERVAL:P3D
CALSCALE:GREGORIAN
BEGIN:VEVENT
DTSTART:20251029T200000Z
DTEND:20251029T220000Z
X-MICROSOFT-CDO-ALLDAYEVENT:FALSE
SUMMARY:Speed Networking & Happy Hour Presented by I.D.N Roofing LLC
DESCRIPTION:Register Now! Only 27 spots available Get ready for a new\, high-energy way to build your network and make meaningful connections! The Heart of the Valley Chamber is excited to launch our Speed Networking event on October 29   and you won't want to miss it! \n\n\n\nThis fast-paced\, interactive experience is designed to help business professionals\, entrepreneurs\, and nonprofit leaders meet\, mingle\, and collaborate in a fun\, fresh way. With a built-in happy hour\, giveaways\, and plenty of chances to grow your network\, you'll walk away with new connections\, new insights\, and a renewed energy for learning more about your local business community. Don't miss out   this is networking reimagined!\n\n \n\nThis event will take place at Tommy G's in Kaukauna from 3:00   5:00 pm and is free for HOTV Chamber members to attend.\n\n\n\n**Participant MUST PREREGISTER - NO WALKINS! \n\n\n\nThis event is made possible by our sponsors!\n\nThis Speed Networking event is Proudly Presented by I.D.N Roofing LLC
X-ALT-DESC;FMTTYPE=text/html:<p><span style="font-size:14.0pt\;"><span style="font-size:14px\;"><span style="font-family:arial\;"><strong>Register Now! Only 27 spots available&hellip\;</strong>Get ready for a new\, high-energy way to build your network and make meaningful connections! The Heart of the Valley Chamber is excited to launch our <strong>Speed Networking event on October 29</strong></span></span></span><span style="font-size:14px\;"><span style="font-family:arial\;">&nbsp\;&ndash\; and you won&#39\;t want to miss it!&nbsp\;<br />\n<br />\nThis fast-paced\, interactive experience is designed to help business professionals\, entrepreneurs\, and nonprofit leaders meet\, mingle\, and collaborate in a fun\, fresh way. With a built-in happy hour\, giveaways\, and plenty of chances to grow your network\, you&rsquo\;ll walk away with <strong>new connections\, new insights\, and a renewed energy for learning more about your local business community.</strong> Don&rsquo\;t miss out &ndash\; this is networking reimagined!<br />\n&nbsp\;</span></span><br />\n<span style="font-size:14px\;"><strong>This event will take place at Tommy G&rsquo\;s in Kaukauna from 3:00 &ndash\; 5:00&nbsp\;pm </strong>and is free for HOTV Chamber members to attend.<br />\n<br />\n**Participant <strong>MUST PREREGISTER</strong> - NO WALKINS!&nbsp\;<br />\n<br />\nThis event is made possible by our sponsors!<br />\n<span style="font-size:18px\;"><strong>This Speed Networking event is Proudly Presented by I.D.N Roofing LLC</strong></span></span><br />\n&nbsp\;</p>\n
LOCATION:Tommy G's 107 W Wisconsin Ave\, Kaukauna *Event will be held in private room at Tommy G's in Kaukauna
UID:e.2456.5775
SEQUENCE:3
DTSTAMP:20260425T210350Z
URL:https://business.heartofthevalleychamber.com/events/details/speed-networking-happy-hour-presented-by-i-d-n-roofing-llc-5775
END:VEVENT

END:VCALENDAR
