BEGIN:VCALENDAR
VERSION:2.0
PRODID:-//ChamberMaster//Event Calendar 2.0//EN
METHOD:PUBLISH
X-PUBLISHED-TTL:P3D
REFRESH-INTERVAL:P3D
CALSCALE:GREGORIAN
BEGIN:VEVENT
DTSTART:20251017T190000Z
DTEND:20251017T200000Z
X-MICROSOFT-CDO-ALLDAYEVENT:FALSE
SUMMARY:Ribbon Cutting - Weld + Arrow - Kaukauna
DESCRIPTION:Join us for the Ribbon Cutting Celebration at Weld + Arrow's NEW Location in Kaukauna! Come celebrate and explore this beautiful new space!\n\nWeld + Arrow is a custom welded permanent jewelry studio located in Kaukauna and Green Bay. We help you celebrate meaningful moments in your life.
X-ALT-DESC;FMTTYPE=text/html:<p data-end="166" data-start="72">&#127881\; Join us for the&nbsp\;Ribbon Cutting Celebration at <b>Weld + Arrow&#39\;s NEW Location in Kaukauna! Come celebrate and explore this beautiful new space!</b></p>\n\n<p data-end="373" data-start="168"><span style="color:#000000\;"><span style="font-weight: bold\; font-family: Roboto\, Arial\, sans-serif\; font-size: 14px\; background-color: rgb(255\, 255\, 255)\;">Weld</span><span style="font-family: Roboto\, Arial\, sans-serif\; font-size: 14px\; background-color: rgb(255\, 255\, 255)\;">&nbsp\;+&nbsp\;</span><span style="font-weight: bold\; font-family: Roboto\, Arial\, sans-serif\; font-size: 14px\; background-color: rgb(255\, 255\, 255)\;">Arrow</span><span style="font-family: Roboto\, Arial\, sans-serif\; font-size: 14px\; background-color: rgb(255\, 255\, 255)\;">&nbsp\;is a custom&nbsp\;</span><span style="font-weight: bold\; font-family: Roboto\, Arial\, sans-serif\; font-size: 14px\; background-color: rgb(255\, 255\, 255)\;">welded</span><span style="font-family: Roboto\, Arial\, sans-serif\; font-size: 14px\; background-color: rgb(255\, 255\, 255)\;">&nbsp\;permanent jewelry studio located in&nbsp\;</span><span style="font-weight: bold\; font-family: Roboto\, Arial\, sans-serif\; font-size: 14px\; background-color: rgb(255\, 255\, 255)\;">Kaukauna</span><span style="font-family: Roboto\, Arial\, sans-serif\; font-size: 14px\; background-color: rgb(255\, 255\, 255)\;">&nbsp\;and Green Bay. We help you celebrate meaningful moments in your life.</span></span></p>\n
LOCATION:123 E 2nd St\, Kaukauna
UID:e.2456.5779
SEQUENCE:3
DTSTAMP:20260425T210505Z
URL:https://business.heartofthevalleychamber.com/events/details/ribbon-cutting-weld-arrow-kaukauna-5779
END:VEVENT

END:VCALENDAR
