BEGIN:VCALENDAR
VERSION:2.0
PRODID:-//ChamberMaster//Event Calendar 2.0//EN
METHOD:PUBLISH
X-PUBLISHED-TTL:P3D
REFRESH-INTERVAL:P3D
CALSCALE:GREGORIAN
BEGIN:VEVENT
DTSTART:20251017T133000Z
DTEND:20251017T143000Z
X-MICROSOFT-CDO-ALLDAYEVENT:FALSE
SUMMARY:Ribbon Cutting - The Nest by Birdie & Co. - Greenville
DESCRIPTION:Join us for the Ribbon Cutting Celebration & Grand Opening for The Nest by Birdie & Co. in Greenville!\n\nThe Coop is a 1\,900 square foot community shared kitchen for caterers\, food truck operators and similar businesses.
X-ALT-DESC;FMTTYPE=text/html:<p data-end="166" data-start="72">&#127881\; Join us for the&nbsp\;Ribbon Cutting Celebration &amp\; Grand Opening for The Nest by Birdie &amp\; Co.&nbsp\;in Greenville!</p>\n\n<p data-end="373" data-start="168"><span style="color: rgb(12\, 47\, 83)\; font-family: gotham\; font-size: 19.4276px\; background-color: rgb(255\, 255\, 255)\;">The Coop is a 1\,900 square foot community shared kitchen for caterers\, food truck operators and similar businesses.&nbsp\;</span></p>\n
LOCATION:N1723 Hyacinth Dr. Greenville
UID:e.2456.5781
SEQUENCE:3
DTSTAMP:20260425T212146Z
URL:https://business.heartofthevalleychamber.com/events/details/ribbon-cutting-the-nest-by-birdie-co-greenville-5781
END:VEVENT

END:VCALENDAR
