BEGIN:VCALENDAR
VERSION:2.0
PRODID:-//ChamberMaster//Event Calendar 2.0//EN
METHOD:PUBLISH
X-PUBLISHED-TTL:P3D
REFRESH-INTERVAL:P3D
CALSCALE:GREGORIAN
BEGIN:VEVENT
DTSTART:20250918T173000Z
DTEND:20250918T180000Z
X-MICROSOFT-CDO-ALLDAYEVENT:FALSE
SUMMARY:Ribbon Cutting - State Farm - Erik Hosking CHFU CLU
DESCRIPTION:Join us for the Ribbon Cutting Celebration at State Farm - Erik Hosking CHFC CLU NEW LOCATION!\n\n\nWe specialize in creating delicious\, balanced meals tailored to your dietary needs and lifestyle. Our mission is to empower individuals and families to embrace healthy eating witut the hassle of cooking and meal
X-ALT-DESC;FMTTYPE=text/html:<p data-end="166" data-start="72">&#127881\; Join us for the&nbsp\;Ribbon Cutting Celebration at <b>State Farm - Erik Hosking CHFC CLU NEW LOCATION</b><span style="color: rgb(var(--color-foreground))\; font-family: var(--font-heading-family)\; font-size: calc(var(--font-heading-scale) * 2.4rem)\; font-weight: var(--font-heading-weight)\; letter-spacing: calc(var(--font-heading-scale) * .06rem)\; text-align: center\;">!</span></p>\n\n<div class="rich-text__text rte scroll-trigger animate--slide-in" data-cascade="" style="box-sizing: inherit\; overflow-wrap: break-word\; margin-top: 2rem\; margin-bottom: 0px\; opacity: 0.01\; transform: translateY(2rem)\; animation-delay: calc(var(--animation-order) * 75ms)\; color: rgba(0\, 0\, 0\, 0.75)\; font-family: Jost\, sans-serif\; font-size: 16px\; letter-spacing: 0.6px\; text-align: center\; background-color: rgb(255\, 255\, 255)\; --animation-order: 0\;">\n<p style="box-sizing: inherit\; overflow-wrap: break-word\; margin-top: 0px\; margin-bottom: 0px\;">We specialize in creating delicious\, balanced meals tailored to your dietary needs and lifestyle. Our mission is to empower individuals and families to embrace healthy eating witut the hassle of cooking and meal</p>\n</div>\n\n<p data-end="373" data-start="168">&nbsp\;</p>\n
LOCATION:124 W Wisconsin Ave. Kaukauna
UID:e.2456.5770
SEQUENCE:3
DTSTAMP:20260425T225258Z
URL:https://business.heartofthevalleychamber.com/events/details/ribbon-cutting-state-farm-erik-hosking-chfu-clu-5770
END:VEVENT

END:VCALENDAR
