BEGIN:VCALENDAR
VERSION:2.0
PRODID:-//ChamberMaster//Event Calendar 2.0//EN
METHOD:PUBLISH
X-PUBLISHED-TTL:P3D
REFRESH-INTERVAL:P3D
CALSCALE:GREGORIAN
BEGIN:VEVENT
DTSTART:20260520T170000Z
DTEND:20260520T180000Z
X-MICROSOFT-CDO-ALLDAYEVENT:FALSE
SUMMARY:Ribbon Cutting - Orthopedic & Sports Institute of the Fox Valley
DESCRIPTION:Join us for the Ribbon Cutting of Orthopedic & Sports Institute of the Fox Valley and help us celebrate their 20th year in business!\n\n\n\nThere will be treats from OSI for those in attendance and a food truck from 11AM-1PM.\n\nAbout Orthopedic & Sports Institute of the Fox Valley (OSI)\n\nOrthopedic & Sports Institute of the Fox Valley (OSI) delivers patient-first orthopedic care designed around comfort\, outcomes\, and recovery. With everything under one roof including non-surgical treatments\, advanced surgery\, physical therapy\, MRI\, and onsite equipment OSI streamlines care for a more efficient experience.\n\nAs a physician-owned institute focused solely on muscle\, bone\, and joint health\, OSI prioritizes quality\, reduces costs\, and helps patients recover faster in a convenient and personalized environment.
X-ALT-DESC;FMTTYPE=text/html:<p data-end="166" data-start="72"><span style="color: rgb(51\, 51\, 51)\; font-family: sans-serif\, Arial\, Verdana\, &quot\;Trebuchet MS&quot\;\; font-size: 13px\; background-color: rgb(255\, 255\, 255)\;">Join us for the Ribbon Cutting of Orthopedic &amp\; Sports Institute of the Fox Valley and help us celebrate their 20th year in business!</span><br />\n<br />\nThere will be treats from OSI for those in attendance and a food truck from 11AM-1PM.</p>\n\n<p data-end="55" data-start="0"><strong data-end="53" data-start="0">About <span class="hover:entity-accent entity-underline inline cursor-pointer align-baseline"><span class="whitespace-normal">Orthopedic &amp\; Sports Institute of the Fox Valley</span></span> (OSI)</strong></p>\n\n<p data-end="380" data-start="57">Orthopedic &amp\; Sports Institute of the Fox Valley (OSI) delivers patient-first orthopedic care designed around comfort\, outcomes\, and recovery. With everything under one roof&mdash\;including non-surgical treatments\, advanced surgery\, physical therapy\, MRI\, and onsite equipment&mdash\;OSI streamlines care for a more efficient experience.</p>\n\n<p data-end="582" data-is-last-node="" data-is-only-node="" data-start="382">As a physician-owned institute focused solely on muscle\, bone\, and joint health\, OSI prioritizes quality\, reduces costs\, and helps patients recover faster in a convenient and personalized environment.</p>\n
LOCATION:OSI Appleton Campus 2105 E. Enterprise Ave\, Appleton
UID:e.2456.5990
SEQUENCE:3
DTSTAMP:20260421T193720Z
URL:https://business.heartofthevalleychamber.com/events/details/ribbon-cutting-orthopedic-sports-institute-of-the-fox-valley-5990
END:VEVENT

END:VCALENDAR
