BEGIN:VCALENDAR
VERSION:2.0
PRODID:-//ChamberMaster//Event Calendar 2.0//EN
METHOD:PUBLISH
X-PUBLISHED-TTL:P3D
REFRESH-INTERVAL:P3D
CALSCALE:GREGORIAN
BEGIN:VEVENT
DTSTART:20251007T211500Z
DTEND:20251007T223000Z
X-MICROSOFT-CDO-ALLDAYEVENT:FALSE
SUMMARY:Ribbon Cutting & Open House - Welcoming Willows
DESCRIPTION:Join us in celebrating the ribbon cutting and open house celebration for Welcoming Willows adult daycare in Little Chute!\n\n\n\nEvent begins at 4:15pm!\n\nRibbon Cutting @ 4:30pm\n\nOpen House to follow ribbon cutting\n\n\n\nThere will be light food\, drinks\, and fun prizes and giveaways for attendees!
X-ALT-DESC;FMTTYPE=text/html:<p dir="ltr" style="line-height:1.38\;margin-top:0pt\;margin-bottom:0pt\;"><span style="color:black\;">Join us in celebrating the ribbon cutting and open house celebration for Welcoming Willows adult daycare in Little Chute!</span><br />\n<br />\nEvent begins at 4:15pm!<br />\nRibbon Cutting @ 4:30pm<br />\nOpen House to follow ribbon cutting<br />\n<br />\nThere will be light food\, drinks\, and fun prizes and giveaways for attendees!&nbsp\;<br />\n&nbsp\;</p>\n
LOCATION:1000 W Main St. Little Chute\,
UID:e.2456.5778
SEQUENCE:3
DTSTAMP:20260425T213714Z
URL:https://business.heartofthevalleychamber.com/events/details/ribbon-cutting-open-house-welcoming-willows-5778
END:VEVENT

END:VCALENDAR
