BEGIN:VCALENDAR
VERSION:2.0
PRODID:-//ChamberMaster//Event Calendar 2.0//EN
METHOD:PUBLISH
X-PUBLISHED-TTL:P3D
REFRESH-INTERVAL:P3D
CALSCALE:GREGORIAN
BEGIN:VEVENT
DTSTART:20250807T210000Z
DTEND:20250807T230000Z
X-MICROSOFT-CDO-ALLDAYEVENT:FALSE
SUMMARY:Ribbon Cutting & Open House - Soul Echo Yoga & Wellness
DESCRIPTION:Join us for the Open House & Ribbon Cutting Celebration at Soul Echo Yoga & Wellness!\n\nCome explore this beautiful new space\, connect with the team behind Soul Echo\, and mingle with fellow local business owners during their open house event. Let's give them a warm welcome to the community!\n\n\n\nBusinesses attending -\n\nFunctional Living with April\n\nXE54 Wine Bar\n\nShifting Tides Chiropractic \n\nOperation Coffee\n\n\n\nSoul Echo Yoga & Wellness offers movement\, meditation\, and mindfulness sessions focusing on functional\, inclusive\, and fun wellness. As a Being Collective partner\, they also host sound healing\, breathwork\, and mantra music events. You're invited to join our authentic and compassionate community!
X-ALT-DESC;FMTTYPE=text/html:<p data-end="166" data-start="72">&#127881\; Join us for the Open House &amp\; Ribbon Cutting Celebration at <strong data-end="163" data-start="134">Soul Echo Yoga &amp\; Wellness</strong>!</p>\n\n<p data-end="373" data-start="168">Come explore this beautiful new space\, connect with the team behind Soul Echo\, and mingle with fellow local business owners during their open house event. Let&rsquo\;s give them a warm welcome to the community!<br />\n<br />\nBusinesses attending -<br />\nFunctional Living with April<br />\nXE54 Wine Bar<br />\nShifting Tides Chiropractic&nbsp\;<br />\nOperation Coffee<br />\n<br />\n<span style="color: rgb(5\, 5\, 5)\; font-family: &quot\;Segoe UI Historic&quot\;\, &quot\;Segoe UI&quot\;\, Helvetica\, Arial\, sans-serif\; font-size: 15px\; white-space-collapse: preserve\;">Soul Echo Yoga &amp\; Wellness offers movement\, meditation\, and mindfulness sessions focusing on functional\, inclusive\, and fun wellness. As a Being Collective partner\, they also host sound healing\, breathwork\, and mantra music events. You&#39\;re invited to join our authentic and compassionate community!</span></p>\n\n<p dir="ltr" style="line-height:1.38\;margin-top:0pt\;margin-bottom:0pt\;"><br />\n&nbsp\;</p>\n
LOCATION:109 S Appleton St. Appleton
UID:e.2456.5733
SEQUENCE:3
DTSTAMP:20260419T183913Z
URL:https://business.heartofthevalleychamber.com/events/details/ribbon-cutting-open-house-soul-echo-yoga-wellness-5733
END:VEVENT

END:VCALENDAR
