BEGIN:VCALENDAR
VERSION:2.0
PRODID:-//ChamberMaster//Event Calendar 2.0//EN
METHOD:PUBLISH
X-PUBLISHED-TTL:P3D
REFRESH-INTERVAL:P3D
CALSCALE:GREGORIAN
BEGIN:VEVENT
DTSTART:20251120T213000Z
DTEND:20251120T223000Z
X-MICROSOFT-CDO-ALLDAYEVENT:FALSE
SUMMARY:Ribbon Cutting & Open House - Rice Companies\, Inc.
DESCRIPTION:Join us for a Ribbon Cutting & Open House event at Rice Companies\, Inc. in Appleton!\n\n\n\nTour the facility after the ribbon cutting and enjoy hot apps\, refreshments\, and entertainment!\n\n\n\nAt Rice Companies\, they are a comprehensive construction company that ignites pride in their communities by building projects and partnerships rooted in a commitment to success.
X-ALT-DESC;FMTTYPE=text/html:Join us for a Ribbon Cutting &amp\; Open House event at Rice Companies\, Inc. in Appleton!<br />\n<br />\nTour the facility after the ribbon cutting and enjoy hot apps\, refreshments\, and entertainment!<br />\n<br />\nAt Rice Companies\, they are a comprehensive construction company that ignites pride in their communities by building projects and partnerships rooted in a commitment to success.<br />\n<br />\n&nbsp\;
LOCATION:327 Randolph Drive Suite A Appleton\, WI 54913
UID:e.2456.5796
SEQUENCE:3
DTSTAMP:20260425T193454Z
URL:https://business.heartofthevalleychamber.com/events/details/ribbon-cutting-open-house-rice-companies-inc-5796
END:VEVENT

END:VCALENDAR
