BEGIN:VCALENDAR
VERSION:2.0
PRODID:-//ChamberMaster//Event Calendar 2.0//EN
METHOD:PUBLISH
X-PUBLISHED-TTL:P3D
REFRESH-INTERVAL:P3D
CALSCALE:GREGORIAN
BEGIN:VEVENT
DTSTART:20250904T163000Z
DTEND:20250904T170000Z
X-MICROSOFT-CDO-ALLDAYEVENT:FALSE
SUMMARY:Ribbon Cutting - Fox Valley Meal Prep - Kaukauna
DESCRIPTION:Join us for the Ribbon Cutting Celebration at Fox Valley Meal Prep's NEW Location in Kaukauna!\n\nCome explore this new space and incredible meals!\n\n\n\nFox Valley Meal Prep specializes in creating delicious\, balanced meals tailored to your dietary needs and lifestyle. Their mission is to empower individuals and families to embrace healthy eating without the hassle of cooking and meal planning.\n\n \n\nWelcoo Fox Valley Meal Prep\, where nutritious eating meets convenience!\n\n\nWe specialize in creating delicious\, balanced meals tailored to your dietary needs and lifestyle. Our mission is to empower individuals and families to embrace healthy eating witut the hassle of cooking and meal
X-ALT-DESC;FMTTYPE=text/html:<p data-end="166" data-start="72">&#127881\; Join us for the&nbsp\;Ribbon Cutting Celebration at <b>Fox Valley Meal Prep&#39\;s NEW Location in Kaukauna!</b></p>\n\n<p data-end="373" data-start="168">Come explore this new space and incredible&nbsp\;meals!<br />\n<br />\nFox Valley Meal Prep specializes in creating delicious\, balanced meals tailored to your dietary needs and lifestyle. Their mission is to empower individuals and families to embrace healthy eating without the hassle of cooking and meal planning.<br />\n&nbsp\;</p>\n\n<h2 class="rich-text__heading rte inline-richtext h2 scroll-trigger animate--slide-in" data-cascade="" style="box-sizing: inherit\; font-family: var(--font-heading-family)\; font-weight: var(--font-heading-weight)\; letter-spacing: calc(var(--font-heading-scale) * .06rem)\; color: rgb(var(--color-foreground))\; line-height: calc(1 + .3/max(1\,var(--font-heading-scale)))\; word-break: break-word\; font-size: calc(var(--font-heading-scale) * 2.4rem)\; overflow-wrap: break-word\; margin-top: 0px\; margin-bottom: 0px\; opacity: 0.01\; transform: translateY(2rem)\; animation-delay: calc(var(--animation-order) * 75ms)\; text-align: center\; background-color: rgb(255\, 255\, 255)\; --animation-order: 0\;">Welcoo Fox Valley Meal Prep\, where nutritious eating meets convenience!</h2>\n\n<div class="rich-text__text rte scroll-trigger animate--slide-in" data-cascade="" style="box-sizing: inherit\; overflow-wrap: break-word\; margin-top: 2rem\; margin-bottom: 0px\; opacity: 0.01\; transform: translateY(2rem)\; animation-delay: calc(var(--animation-order) * 75ms)\; color: rgba(0\, 0\, 0\, 0.75)\; font-family: Jost\, sans-serif\; font-size: 16px\; letter-spacing: 0.6px\; text-align: center\; background-color: rgb(255\, 255\, 255)\; --animation-order: 0\;">\n<p style="box-sizing: inherit\; overflow-wrap: break-word\; margin-top: 0px\; margin-bottom: 0px\;">We specialize in creating delicious\, balanced meals tailored to your dietary needs and lifestyle. Our mission is to empower individuals and families to embrace healthy eating witut the hassle of cooking and meal</p>\n</div>\n\n<p data-end="373" data-start="168">&nbsp\;</p>\n
LOCATION:107 2nd St. Kaukauna
UID:e.2456.5764
SEQUENCE:3
DTSTAMP:20260425T225141Z
URL:https://business.heartofthevalleychamber.com/events/details/ribbon-cutting-fox-valley-meal-prep-kaukauna-5764
END:VEVENT

END:VCALENDAR
