BEGIN:VCALENDAR
VERSION:2.0
PRODID:-//ChamberMaster//Event Calendar 2.0//EN
METHOD:PUBLISH
X-PUBLISHED-TTL:P3D
REFRESH-INTERVAL:P3D
CALSCALE:GREGORIAN
BEGIN:VEVENT
DTSTART:20251203T211500Z
DTEND:20251203T220000Z
X-MICROSOFT-CDO-ALLDAYEVENT:FALSE
SUMMARY:Ribbon Cutting - Finding Time Contracting
DESCRIPTION:Join us for the Ribbon Cutting Celebration for Finding Time Contracting and their new building!\n\n\n\nFinding Time Contracting is a local business specializing in residential and commercial remodeling.  We are proud to have served the Fox Cities and surrounding communities as a full-service remodeling contractor for over 20 years.  Troy Mueller and his team have a reputation for quality work\, craftsmanship\, and outstanding customer care.
X-ALT-DESC;FMTTYPE=text/html:<span style="font-size:14px\;">Join us for the Ribbon Cutting Celebration for Finding Time Contracting and their new building!</span><br />\n<br />\n<span style="font-family:arial\;"><span style="font-size:14px\;"><span style="color: rgb(70\, 70\, 70)\; background-color: rgb(255\, 255\, 255)\;">Finding Time Contracting is a local business specializing in residential and commercial remodeling.&nbsp\; We are proud to have served the Fox Cities and surrounding communities as a full-service remodeling contractor for over 20 years.&nbsp\; Troy Mueller and his team have a reputation for quality work\, craftsmanship\, and outstanding customer care.</span></span></span><br />\n&nbsp\;
LOCATION:N8263 Pigeon Road Sherwood\, WI 54169
UID:e.2456.5809
SEQUENCE:3
DTSTAMP:20260425T181347Z
URL:https://business.heartofthevalleychamber.com/events/details/ribbon-cutting-finding-time-contracting-5809
END:VEVENT

END:VCALENDAR
