BEGIN:VCALENDAR
VERSION:2.0
PRODID:-//ChamberMaster//Event Calendar 2.0//EN
METHOD:PUBLISH
X-PUBLISHED-TTL:P3D
REFRESH-INTERVAL:P3D
CALSCALE:GREGORIAN
BEGIN:VEVENT
DTSTART:20251103T190000Z
DTEND:20251103T200000Z
X-MICROSOFT-CDO-ALLDAYEVENT:FALSE
SUMMARY:Ribbon Cutting - Dusty Rose Nails & Permanent Jewelry
DESCRIPTION:Come celebrate the official Ribbon Cutting for Dusty Rose Nails & Permanent Jewelry!\n\nTalen Doro\, owner of Dusty Rose Nails\, is a licensed Nail Technician specializing in acrylics and a full range of nail services. She offers permanent jewelry and mobile services\, with monthly pop-up events for the community to enjoy.\n\n\n\nThere will be light refreshments and snacks available!
X-ALT-DESC;FMTTYPE=text/html:<p data-end="166" data-start="72">Come celebrate the official Ribbon Cutting for Dusty Rose Nails &amp\; Permanent Jewelry!</p>\n\n<p>Talen Doro\, owner of Dusty Rose Nails\, is a licensed Nail Technician&nbsp\;specializing in acrylics and a full range of nail services. She offers permanent jewelry and mobile services\, with monthly pop-up events for the community to enjoy.<o:p><br />\n<br />\nThere will be light refreshments and snacks available!</o:p></p>\n
LOCATION:424 Buchanan Rd. Kaukauna
UID:e.2456.5797
SEQUENCE:3
DTSTAMP:20260425T193237Z
URL:https://business.heartofthevalleychamber.com/events/details/ribbon-cutting-dusty-rose-nails-permanent-jewelry-5797
END:VEVENT

END:VCALENDAR
