BEGIN:VCALENDAR
VERSION:2.0
PRODID:-//ChamberMaster//Event Calendar 2.0//EN
METHOD:PUBLISH
X-PUBLISHED-TTL:P3D
REFRESH-INTERVAL:P3D
CALSCALE:GREGORIAN
BEGIN:VEVENT
DTSTART:20251001T163000Z
DTEND:20251001T183000Z
X-MICROSOFT-CDO-ALLDAYEVENT:FALSE
SUMMARY:Ribbon Cutting - Any Lab Test Now and ARC Point
DESCRIPTION:Join us for the Ribbon Cutting Celebration at ARC Point/Any Lab Test with the Greater Green Bay Chamber of Commerce and De Pere Chamber of Commerce!\n\n\n\nGather Time:  11:30am\n\nCutting Time:  11:45am\n\nOpen House: 12:00pm - 1:30pm\n\n\n\nWith a commitment to accuracy\, efficiency\, and confidentiality\, ARCpoint Labs of Green Bay empowers businesses\, employers\, and DOT companies to make informed decisions through comprehensive testing and employer solutions. Local DOT testing site offerings from ARCpoint Labs near you include DOT Drug Test\, and DOT Alcohol Test services. Their Pre-Employment Drug Testing solutions near you help foster a safe and compliant work environment\, enabling businesses to thrive in today's competitive market.\n\nWelcoo Fox Valley Meal Prep\, where nutritiousating meets convenience!\n\n\nWe specialize in creating delicious\, balanced meals tailored to your dietary needs and lifestyle. Our mission is to empower individuals and families to embrace healthy eating witut the hassle of cooking and meal
X-ALT-DESC;FMTTYPE=text/html:<p data-end="166" data-start="72">&#127881\; Join us for the Ribbon Cutting Celebration at <b>ARC Point/Any Lab Test </b>with the<b> Greater Green Bay Chamber of Commerce </b>and<b> De Pere Chamber of Commerce!</b><br />\n<br />\n<strong><span style="color:black\;"><span style="font-family:calibri\,sans-serif\;"><span style="font-size:11.0pt\;">Gather Time:</span></span></span></strong><span style="color:black\;"><span style="font-family:calibri\,sans-serif\;"><span style="font-size:11.0pt\;">&nbsp\; 11:30am</span></span></span><br />\n<strong><span style="color:black\;"><span style="font-family:calibri\,sans-serif\;"><span style="font-size:11.0pt\;">Cutting Time:</span></span></span></strong><span style="color:black\;"><span style="font-family:calibri\,sans-serif\;"><span style="font-size:11.0pt\;">&nbsp\; 11:45am<br />\n<strong>Open House:</strong> 12:00pm - 1:30pm</span></span></span><br />\n<br />\n<span style="color:#000000\;"><span style="font-family: Poppins\, sans-serif\; font-size: 16px\;">With a commitment to accuracy\, efficiency\, and confidentiality\, ARCpoint Labs of Green Bay empowers businesses\, employers\, and DOT companies to make informed decisions through comprehensive testing and employer solutions. Local DOT testing site offerings from ARCpoint Labs near you include&nbsp\;</span><span style="box-sizing: border-box\; margin: 0px\; padding: 0px\; border: 0px\; outline: 0px\; font-size: 16px\; text-size-adjust: 100%\; vertical-align: baseline\; background-image: initial\; background-position: initial\; background-size: initial\; background-repeat: initial\; background-attachment: initial\; background-origin: initial\; background-clip: initial\; font-weight: 700\; font-family: Poppins\, sans-serif\;">DOT Drug Test</span><span style="font-family: Poppins\, sans-serif\; font-size: 16px\;">\, and&nbsp\;</span><span style="box-sizing: border-box\; margin: 0px\; padding: 0px\; border: 0px\; outline: 0px\; font-size: 16px\; text-size-adjust: 100%\; vertical-align: baseline\; background-image: initial\; background-position: initial\; background-size: initial\; background-repeat: initial\; background-attachment: initial\; background-origin: initial\; background-clip: initial\; font-weight: 700\; font-family: Poppins\, sans-serif\;">DOT Alcohol Test</span><span style="font-family: Poppins\, sans-serif\; font-size: 16px\;">&nbsp\;services. Their Pre-</span><span style="box-sizing: border-box\; margin: 0px\; padding: 0px\; border: 0px\; outline: 0px\; font-size: 16px\; text-size-adjust: 100%\; vertical-align: baseline\; background-image: initial\; background-position: initial\; background-size: initial\; background-repeat: initial\; background-attachment: initial\; background-origin: initial\; background-clip: initial\; font-weight: 700\; font-family: Poppins\, sans-serif\;">Employment Drug Testing</span><span style="font-family: Poppins\, sans-serif\; font-size: 16px\;">&nbsp\;solutions near you help foster a safe and compliant work environment\, enabling businesses to thrive in today&rsquo\;s competitive market.</span></span></p>\n\n<h2 class="rich-text__heading rte inline-richtext h2 scroll-trigger animate--slide-in" data-cascade="" style="box-sizing: inherit\; font-family: var(--font-heading-family)\; font-weight: var(--font-heading-weight)\; letter-spacing: calc(var(--font-heading-scale) * .06rem)\; color: rgb(var(--color-foreground))\; line-height: calc(1 + .3/max(1\,var(--font-heading-scale)))\; word-break: break-word\; font-size: calc(var(--font-heading-scale) * 2.4rem)\; overflow-wrap: break-word\; margin-top: 0px\; margin-bottom: 0px\; opacity: 0.01\; transform: translateY(2rem)\; animation-delay: calc(var(--animation-order) * 75ms)\; text-align: center\; background-color: rgb(255\, 255\, 255)\; --animation-order: 0\;"><span style="color:#000000\;">Welcoo Fox Valley Meal Prep\, where nutritiousating meets convenience!</span></h2>\n\n<div class="rich-text__text rte scroll-trigger animate--slide-in" data-cascade="" style="box-sizing: inherit\; overflow-wrap: break-word\; margin-top: 2rem\; margin-bottom: 0px\; opacity: 0.01\; transform: translateY(2rem)\; animation-delay: calc(var(--animation-order) * 75ms)\; color: rgba(0\, 0\, 0\, 0.75)\; font-family: Jost\, sans-serif\; font-size: 16px\; letter-spacing: 0.6px\; text-align: center\; background-color: rgb(255\, 255\, 255)\; --animation-order: 0\;">\n<p style="box-sizing: inherit\; overflow-wrap: break-word\; margin-top: 0px\; margin-bottom: 0px\;"><span style="color:#000000\;">We specialize in creating delicious\, balanced meals tailored to your dietary needs and lifestyle. Our mission is to empower individuals and families to embrace healthy eating witut the hassle of cooking and meal</span></p>\n</div>\n\n<p data-end="373" data-start="168">&nbsp\;</p>\n
LOCATION:2064 Lime Kiln Rd. Suite 5 Green Bay
UID:e.2456.5767
SEQUENCE:3
DTSTAMP:20260425T210358Z
URL:https://business.heartofthevalleychamber.com/events/details/ribbon-cutting-any-lab-test-now-and-arc-point-5767
END:VEVENT

END:VCALENDAR
