BEGIN:VCALENDAR
VERSION:2.0
PRODID:-//ChamberMaster//Event Calendar 2.0//EN
METHOD:PUBLISH
X-PUBLISHED-TTL:P3D
REFRESH-INTERVAL:P3D
CALSCALE:GREGORIAN
BEGIN:VEVENT
DTSTART:20161203T160000Z
DTEND:20161203T173000Z
X-MICROSOFT-CDO-ALLDAYEVENT:FALSE
SUMMARY:Life & Legacy Planning Presentation
DESCRIPTION:Come join us for a Family Life & Legacy Planning Presentation on Saturday\, December 3rd at 10:00 am at the Heart of the Valley Chamber of Commerce building in downtown Kaukauna!\n\n\n\nEstate planning is a lifelong process\, not a one-time decision. Learn the basics of estate planning documents including wills\, trusts and powers of attorney. We will discuss what you should be considering in your own estate planning documents and how you can best protect yourself and your family!\n\n\n\nTo reserve your spot today\, call (920) 558-9300 or e-mail us at contact@epgwi.com.
X-ALT-DESC;FMTTYPE=text/html:<span style="font-size:12px\;"><span style="font-family:arial\;"><span style="color:black\;">Come join us for a Family Life &amp\; Legacy Planning Presentation&nbsp\;on Saturday\,&nbsp\;December 3rd at 10:00 am at the&nbsp\;Heart of the Valley Chamber of Commerce building in downtown Kaukauna!<br />\n<br />\nEstate planning is a lifelong process\, not a one-time decision. Learn the basics of estate planning documents including wills\, trusts and powers of attorney. We will discuss what you should be considering in your own estate planning documents and how you can best protect yourself and your family!<br />\n<br />\nTo reserve your spot today\, call (920) 558-9300 or e-mail us at <a href="mailto:contact@epgwi.com">contact@epgwi.com</a>.&nbsp\;</span></span></span><br />\n&nbsp\;
LOCATION:Heart of the Valley Chamber of Commerce 101 E. Wisconsin Ave. Kaukauna\, WI 54130
UID:e.2456.741
SEQUENCE:3
DTSTAMP:20260419T223436Z
URL:https://business.heartofthevalleychamber.com/events/details/life-legacy-planning-presentation-741
END:VEVENT

END:VCALENDAR
