BEGIN:VCALENDAR
VERSION:2.0
PRODID:-//ChamberMaster//Event Calendar 2.0//EN
METHOD:PUBLISH
X-PUBLISHED-TTL:P3D
REFRESH-INTERVAL:P3D
CALSCALE:GREGORIAN
BEGIN:VEVENT
DTSTART:20251204T223000Z
DTEND:20251205T000000Z
X-MICROSOFT-CDO-ALLDAYEVENT:FALSE
SUMMARY:Grand Opening & Ribbon Cutting - GrandStay Hotel & Suites Kaukauna
DESCRIPTION:Join us for the official Grand Opening & Ribbon Cutting celebration for GrandStay Hotel & Suites! Come meet the leaders of the GrandStay and celebrate the opening of this beautiful new hotel right in Kaukauna!\n\n\n\nRibbon Cutting at 4:30PM\n\nTours\, Food & Beverages to follow!
X-ALT-DESC;FMTTYPE=text/html:Join us for the official Grand Opening &amp\; Ribbon Cutting celebration for GrandStay Hotel &amp\; Suites! Come meet the leaders of the GrandStay and celebrate the opening of this beautiful new hotel right in Kaukauna!<br />\n<br />\n<span style="color: rgb(226\, 229\, 233)\; font-family: &quot\;Segoe UI Historic&quot\;\, &quot\;Segoe UI&quot\;\, Helvetica\, Arial\, sans-serif\; font-size: 15px\; background-color: rgb(37\, 39\, 40)\;">Ribbon Cutting at 4:30PM</span><br class="html-br" style="color: rgb(226\, 229\, 233)\; font-family: &quot\;Segoe UI Historic&quot\;\, &quot\;Segoe UI&quot\;\, Helvetica\, Arial\, sans-serif\; font-size: 15px\; background-color: rgb(37\, 39\, 40)\;" />\n<span style="color: rgb(226\, 229\, 233)\; font-family: &quot\;Segoe UI Historic&quot\;\, &quot\;Segoe UI&quot\;\, Helvetica\, Arial\, sans-serif\; font-size: 15px\; background-color: rgb(37\, 39\, 40)\;">Tours\, Food &amp\; Beverages to follow!</span>
LOCATION:1541 Arbor Way\, Kaukauna
UID:e.2456.5800
SEQUENCE:3
DTSTAMP:20260425T180156Z
URL:https://business.heartofthevalleychamber.com/events/details/grand-opening-ribbon-cutting-grandstay-hotel-suites-kaukauna-5800
END:VEVENT

END:VCALENDAR
