BEGIN:VCALENDAR
VERSION:2.0
PRODID:-//ChamberMaster//Event Calendar 2.0//EN
METHOD:PUBLISH
X-PUBLISHED-TTL:P3D
REFRESH-INTERVAL:P3D
CALSCALE:GREGORIAN
BEGIN:VEVENT
DTSTART:20250818T140000Z
DTEND:20250818T150000Z
X-MICROSOFT-CDO-ALLDAYEVENT:FALSE
SUMMARY:Grand Opening & Ribbon Cutting - Culvers of Combined Locks
DESCRIPTION:Join us for the official Grand Opening & Ribbon Cutting celebration for Culvers of Combined Locks! This Culvers location is set to officially open after the ceremony at 10:00am!
X-ALT-DESC;FMTTYPE=text/html:<p data-end="166" data-start="72"><span style="color: rgb(51\, 51\, 51)\; font-family: sans-serif\, Arial\, Verdana\, &quot\;Trebuchet MS&quot\;\; font-size: 13px\; background-color: rgb(255\, 255\, 255)\;">Join us for the official Grand Opening &amp\; Ribbon Cutting celebration for Culvers of Combined Locks! This Culvers location is set to officially&nbsp\;open after the ceremony at 10:00am!</span></p>\n
LOCATION:Culvers of Combined Locks 503 Martineau Rd. Combined Locks
UID:e.2456.5748
SEQUENCE:3
DTSTAMP:20260426T002827Z
URL:https://business.heartofthevalleychamber.com/events/details/grand-opening-ribbon-cutting-culvers-of-combined-locks-5748
END:VEVENT

END:VCALENDAR
