BEGIN:VCALENDAR
VERSION:2.0
PRODID:-//ChamberMaster//Event Calendar 2.0//EN
METHOD:PUBLISH
X-PUBLISHED-TTL:P3D
REFRESH-INTERVAL:P3D
CALSCALE:GREGORIAN
BEGIN:VEVENT
DTSTART:20250724T160000Z
DTEND:20250724T203000Z
X-MICROSOFT-CDO-ALLDAYEVENT:FALSE
SUMMARY:Free Small Business Consulting with SBDC
DESCRIPTION:LOOKING TO START\, GROW OR FINANCE YOUR SMALL BUSINESS?\n\nGet convenient\, no-cost access to small business consulting services with the small business experts from UW Oshkosh's Small Business Development Center. SBDC is a nationally accredited network offering consulting\, education\, data to help make the best decisions for your business. \n \n\nMake an appointment online to meet with a small business consultant right here at the Heart of the Valley Chamber office. \n\nThrough our partnership with the Small Business Development Center (SBDC)\, their knowledgeable small business consultants will be at the Heat of the Valley Chamber office each month to meet with you and help you to make informed decisions! We welcome all small business owners to schedule an appointment\, no matter if you are just starting out\, have been in business for years or simply have a dream to own your business.\n\nWHEN: Thursday\, July 24\n\nHOURS: Open Time Slots - 11am\, 1pm\, 2:30pm\n\nMEETINGS: Typically 45 minutes\, select from available appointment times\n\nWHERE: Heart of the Valley Chamber\, 101 E. Wisconsin Ave.\, Kaukauna\n\nSchedule a meeting to what's important to your business\, such as:\n\n  Start up guidance & launching a business\n\n  Business planning\n\n  Marketing and sales\n\n  Strategic planning\n\n  Access to loans\, lender introductions\, financing\n\n  And more\n\nWe encourage you to take advantage of this valuable resource to help take your small business to the next level!\n\nSchedule a meeting now: or to learn more contact Bri at bri@heartofthevalleychamber.com.
X-ALT-DESC;FMTTYPE=text/html:<h1 style="box-sizing: border-box\; margin: 0px\; font-family: Ubuntu\, sans-serif\; font-weight: 500\; line-height: 1.2\; color: rgb(46\, 84\, 113)\; font-size: 30px\; background-color: rgb(255\, 255\, 255)\;"><span style="font-size:14px\;"><span style="font-family:arial\;"><span style="box-sizing: border-box\;">LOOKING TO START\, GROW OR&nbsp\;FINANCE YOUR SMALL&nbsp\;BUSINESS?</span></span></span></h1>\n\n<h1 style="box-sizing: border-box\; margin: 0px\; font-family: Ubuntu\, sans-serif\; font-weight: 500\; line-height: 1.2\; color: rgb(46\, 84\, 113)\; font-size: 30px\; outline: 0px\; background-color: rgb(255\, 255\, 255)\;"><span style="font-size:14px\;"><span style="font-family:arial\;"><span style="box-sizing: border-box\;"><span open="" style="box-sizing: border-box\; font-family: ">Get convenient\, no-cost access to&nbsp\;</span><span open="" style="box-sizing: border-box\; font-family: ">small business&nbsp\;</span><span open="" style="box-sizing: border-box\; font-family: ">consulting services&nbsp\;with the small business </span></span></span><span style="box-sizing: border-box\;"><span open="" style="box-sizing: border-box\; font-family: ">experts from UW Oshkosh&#39\;s Small Business Development Center. SBDC is&nbsp\;</span></span><span style="font-family: Heebo\, sans-serif\; background-color: rgb(255\, 255\, 255)\;">a nationally accredited&nbsp\;</span></span><span style="font-size:14px\;"><span style="font-family: Heebo\, sans-serif\; background-color: rgb(255\, 255\, 255)\;">network offering consulting\, education\, data to help make the best decisions for your business.&nbsp\;</span></span></h1>\n<span style="font-size:14px\;"><span style="font-family:arial\;"><span background-color:="" font-size:="" open="">&nbsp\;</span></span></span>\n\n<p font-size:="" open="" style="box-sizing: border-box\; margin: 0px 0px 1rem\; background-color: rgb(255\, 255\, 255)\; color: rgb(46\, 84\, 113)\; font-family: "><span style="font-size:14px\;"><span style="font-family:arial\;"><span style="box-sizing: border-box\;"><span style="box-sizing: border-box\; font-weight: bolder\;"><a href="https://outlook.office.com/book/SmallBusinessConsultingwiththeSBDC@heartofthevalleychamber.com/s/rBsXiUVlaEizCzKUKVdWHA2"><span style="font-size:20px\;">Make an appointment online</span></a>&nbsp\;</span></span><a href="https://outlook.office365.com/owa/calendar/FoxCitiesChamberOfficeHours@uwosh.onmicrosoft.com/bookings/" style="box-sizing: border-box\; background-color: transparent\; text-decoration-line: none\; color: rgb(0\, 98\, 105)\; box-shadow: none\; overflow-wrap: break-word\;">t</a>o meet with a small business consultant right here at the Heart of the Valley Chamber office.&nbsp\;</span></span></p>\n\n<p font-size:="" open="" style="box-sizing: border-box\; margin: 0px 0px 1rem\; background-color: rgb(255\, 255\, 255)\; color: rgb(46\, 84\, 113)\; font-family: "><span style="font-size:14px\;"><span style="font-family:arial\;"><span style="box-sizing: border-box\;">Through our partnership with the&nbsp\;Small Business Development Center (SBDC)\, their knowledgeable small business&nbsp\;consultants will be&nbsp\;at the Heat of the Valley Chamber office each month to meet with you and help you to make informed decisions! We welcome all small business owners to schedule an appointment</span><span background-color:="" font-size:="" open="">\,&nbsp\;</span><span style="box-sizing: border-box\;">no matter if you are just starting out\, have been in business for years or simply&nbsp\;have a dream to own your business.</span></span></span></p>\n\n<p font-size:="" open="" style="box-sizing: border-box\; margin: 0px 0px 1rem\; background-color: rgb(255\, 255\, 255)\; color: rgb(46\, 84\, 113)\; font-family: "><span style="font-size:14px\;"><span style="font-family:arial\;"><span style="box-sizing: border-box\;"><strong>WHEN</strong>: Thursday\, July 24<br style="box-sizing: border-box\;" />\n<strong>HOURS</strong>: Open Time Slots - 11am\, 1pm\, 2:30pm<br />\n<strong>MEETINGS</strong>: Typically 45 minutes\, select from available appointment times<br style="box-sizing: border-box\;" />\n<strong>WHERE:</strong> Heart of the Valley&nbsp\;Chamber\, 101 E. Wisconsin Ave.\, Kaukauna</span></span></span></p>\n\n<p font-size:="" open="" style="box-sizing: border-box\; margin: 0px 0px 1rem\; background-color: rgb(255\, 255\, 255)\; color: rgb(46\, 84\, 113)\; font-family: "><span style="font-size:14px\;"><span style="font-family:arial\;"><span style="box-sizing: border-box\;"><strong>Schedule a meeting to what&#39\;s important to your&nbsp\;business\, such as:</strong><br style="box-sizing: border-box\;" />\n&bull\; Start up guidance &amp\; launching a business<br style="box-sizing: border-box\;" />\n&bull\; Business planning<br style="box-sizing: border-box\;" />\n&bull\; Marketing and sales<br style="box-sizing: border-box\;" />\n&bull\; Strategic planning<br style="box-sizing: border-box\;" />\n&bull\; Access to loans\, lender introductions\,&nbsp\;financing<br style="box-sizing: border-box\;" />\n&bull\; And more</span></span></span></p>\n\n<p font-size:="" open="" style="box-sizing: border-box\; margin: 0px 0px 1rem\; background-color: rgb(255\, 255\, 255)\; color: rgb(46\, 84\, 113)\; font-family: "><span style="font-size:14px\;"><span style="font-family:arial\;"><span style="box-sizing: border-box\;">We encourage you to take advantage of this&nbsp\;valuable resource to help take your small business to the next level!</span></span></span></p>\n\n<p font-size:="" open="" style="box-sizing: border-box\; margin: 0px 0px 1rem\; background-color: rgb(255\, 255\, 255)\; color: rgb(46\, 84\, 113)\; font-family: "><span style="font-size:14px\;"><span style="font-family:arial\;"><span style="box-sizing: border-box\;"><a href="https://outlook.office.com/book/SmallBusinessConsultingwiththeSBDC@heartofthevalleychamber.com/s/rBsXiUVlaEizCzKUKVdWHA2"><span style="box-sizing: border-box\; font-weight: bolder\;">Schedule a meeting now</span></a>: or to learn more contact Bri at bri@heartofthevalleychamber.com.&nbsp\;</span></span></span></p>\n
LOCATION:
UID:e.2456.5741
SEQUENCE:3
DTSTAMP:20260426T020453Z
URL:https://business.heartofthevalleychamber.com/events/details/free-small-business-consulting-with-sbdc-5741
END:VEVENT

END:VCALENDAR
