BEGIN:VCALENDAR
VERSION:2.0
PRODID:-//ChamberMaster//Event Calendar 2.0//EN
METHOD:PUBLISH
X-PUBLISHED-TTL:P3D
REFRESH-INTERVAL:P3D
CALSCALE:GREGORIAN
BEGIN:VEVENT
DTSTART:20251212T000000Z
DTEND:20251212T013000Z
X-MICROSOFT-CDO-ALLDAYEVENT:FALSE
SUMMARY:Everyday Legal Habits for Small Business Owners
DESCRIPTION:Running a small business means wearing every hat   owner\, marketer\, accountant\, and sometimes "accidental lawyer." This session helps entrepreneurs understand the practical legal and organizational habits that keep their business safe\, credible\, and ready for growth.\n\nWe'll break down common legal issues in plain language\, show real-world examples\, and guide participants through steps they can take immediately   without needing a law degree or big legal budget.
X-ALT-DESC;FMTTYPE=text/html:<p>Running a small business means wearing every hat &mdash\; owner\, marketer\, accountant\, and sometimes &ldquo\;accidental lawyer.&rdquo\; This session helps entrepreneurs understand the practical legal and organizational habits that keep their business safe\, credible\, and ready for growth.</p>\n\n<p>We&rsquo\;ll break down common legal issues in plain language\, show real-world examples\, and guide participants through steps they can take immediately &mdash\; without needing a law degree or big legal budget.</p>\n
LOCATION:333 S Nicolet Rd\, Appleton\, Wisconsin\, 54914
UID:e.2456.5813
SEQUENCE:3
DTSTAMP:20260425T181224Z
URL:https://business.heartofthevalleychamber.com/events/details/everyday-legal-habits-for-small-business-owners-12-11-2025-5813
END:VEVENT

END:VCALENDAR
