BEGIN:VCALENDAR
VERSION:2.0
PRODID:-//ChamberMaster//Event Calendar 2.0//EN
METHOD:PUBLISH
X-PUBLISHED-TTL:P3D
REFRESH-INTERVAL:P3D
CALSCALE:GREGORIAN
BEGIN:VEVENT
DTSTART:20251007T123000Z
DTEND:20251007T133000Z
X-MICROSOFT-CDO-ALLDAYEVENT:FALSE
SUMMARY:Conversations Over Coffee: Youth Homelessness in the Fox Valley Region
DESCRIPTION:Join us on October 30 to learn more about Youth Homelessness in the Fox Valley region. We will be joined by our friends at HeadsUp!\n\n\n\nConversations Over Coffee is a great way to learn about issues facing our community and ways you can help individuals and families experiencing homelessness and housing challenges. Be sure to bring your questions for the Q&A following the discussion. You can join us for all or part of this free\, virtual event.
X-ALT-DESC;FMTTYPE=text/html:<span style="color:rgba(0\, 0\, 0\, 0.9)\; font-family:-apple-system\,system-ui\,system-ui\,segoe ui\,roboto\,helvetica neue\,fira sans\,ubuntu\,oxygen\,oxygen sans\,cantarell\,droid sans\,apple color emoji\,segoe ui emoji\,segoe ui emoji\,segoe ui symbol\,lucida grande\,helvetica\,arial\,sans-serif\; font-size:14px">Join us on October 30 to learn more about Youth Homelessness in the Fox Valley region. We will be joined by our friends at HeadsUp!</span><br />\n<br />\n<span style="color:rgba(0\, 0\, 0\, 0.9)\; font-family:-apple-system\,system-ui\,system-ui\,segoe ui\,roboto\,helvetica neue\,fira sans\,ubuntu\,oxygen\,oxygen sans\,cantarell\,droid sans\,apple color emoji\,segoe ui emoji\,segoe ui emoji\,segoe ui symbol\,lucida grande\,helvetica\,arial\,sans-serif\; font-size:14px">Conversations Over Coffee is a great way to learn about issues facing our community and ways you can help individuals and families experiencing homelessness and housing challenges. Be sure to bring your questions for the Q&amp\;A following the discussion. You can join us for all or part of this free\, virtual event.</span>
LOCATION:Virtual on Zoom
UID:e.2456.5785
SEQUENCE:3
DTSTAMP:20260425T225452Z
URL:https://business.heartofthevalleychamber.com/events/details/conversations-over-coffee-youth-homelessness-in-the-fox-valley-region-5785
END:VEVENT

END:VCALENDAR
