BEGIN:VCALENDAR
VERSION:2.0
PRODID:-//ChamberMaster//Event Calendar 2.0//EN
METHOD:PUBLISH
X-PUBLISHED-TTL:P3D
REFRESH-INTERVAL:P3D
CALSCALE:GREGORIAN
BEGIN:VEVENT
DTSTART:20251116T170000Z
DTEND:20251116T220000Z
X-MICROSOFT-CDO-ALLDAYEVENT:FALSE
SUMMARY:Charity Chili Cook-Off for NextGen ALS by JG Outreach Inc.
DESCRIPTION:Sign up for chili entry\, Sponsorship\, or plan on coming out for a good cause and fun times!\n\nUp to 15 Chili's to taste and vote on!\n\n*Raffle Baskets\n\n*50/50\n\nPrizes for 1st-3rd Place Chilis\n\nAll proceeds will be donated to NextGen ALS\n\nAt NextGen ALS\, we believe in focused\, directed\, results-driven research\, with the goal of medical advancement and treatment options for people with ALS\, specifically the genetic version.\n\nContact Kristina or any of the Lady admins for more information!\n\nThe Bar Menu\, along with their Game Day Buffet\,\n\n$20 per Adult- gets you a sample of all 15 Chili's\n\n$5 per kid- gets you a sample of all 15 Chili's\n\nRSVP to the event or register online through the link provided!\n\nThank you for supporting our mission. Your support is invaluable.\n\nhttps://www.zeffy.com/ticketing/chili-charity-cookoff\n\n\n\nhttps://www.facebook.com/share/1EwtzT8Qha/
X-ALT-DESC;FMTTYPE=text/html:<div>Sign up for chili entry\, Sponsorship\, or plan on coming out for a good cause and fun times!<br />\nUp to 15 Chili&#39\;s to taste and vote on!<br />\n*Raffle Baskets<br />\n*50/50<br />\nPrizes for 1st-3rd Place Chilis<br />\nAll proceeds will be donated to NextGen ALS<br />\nAt NextGen ALS\, we believe in focused\, directed\, results-driven research\, with the goal of medical advancement and treatment options for people with ALS\, specifically the genetic version.</div>\n\n<div>Contact Kristina or any of the Lady admins for more information!</div>\n\n<div>The Bar Menu\, along with their Game Day Buffet\,<br />\n$20 per Adult- gets you a sample of all 15 Chili&#39\;s<br />\n$5 per kid- gets you a sample of all 15 Chili&#39\;s</div>\n\n<div>RSVP to the event or register online through the link provided!</div>\n\n<div>Thank you for supporting our mission. Your support is invaluable.</div>\n\n<div><a class="x1i10hfl xjbqb8w x1ejq31n x18oe1m7 x1sy0etr xstzfhl x972fbf x10w94by x1qhh985 x14e42zd x9f619 x1ypdohk xt0psk2 x3ct3a4 xdj266r x14z9mp xat24cr x1lziwak xexx8yu xyri2b x18d9i69 x1c1uobl x16tdsg8 x1hl2dhg xggy1nq x1a2a7pz xkrqix3 x1sur9pj x1fey0fg x1s688f" href="https://www.zeffy.com/ticketing/chili-charity-cookoff?fbclid=IwZXh0bgNhZW0CMTAAYnJpZBExYm0ybDF3RDYzeFU1SGV0dAEeSogouA5uwPnhHsFIpJpkN6O_HoAHzKn8atG7SHKJ0M62FIfN2eMl7ycJ0aA_aem_AJwy2PMe5jUT3Y5Q-d2pxA" rel="nofollow noreferrer" style="color: rgb(0\, 100\, 209)\; cursor: pointer\; text-decoration-line: none\; text-align: inherit\; list-style-type: none\; box-sizing: border-box\; background-color: transparent\; outline: none\; -webkit-tap-highlight-color: transparent\; font-weight: 600\; touch-action: manipulation\; display: inline\; border-inline-width: 0px\; margin-inline: 0px\; border-inline-style: none\; padding-inline: 0px\; padding-bottom: 0px\; border-top-style: none\; border-bottom-width: 0px\; border-bottom-style: none\; border-top-width: 0px\; margin-bottom: 0px\; margin-top: 0px\; padding-top: 0px\; font-family: inherit\;" tabindex="0" target="_blank">https://www.zeffy.com/ticketing/chili-charity-cookoff</a><br />\n<br />\nhttps://www.facebook.com/share/1EwtzT8Qha/</div>\n
LOCATION:The Bar - Lynndale 2435 W Nordale Dr\, Appleton\, WI 54914
UID:e.2456.5774
SEQUENCE:3
DTSTAMP:20260425T195634Z
URL:https://business.heartofthevalleychamber.com/events/details/charity-chili-cook-off-for-nextgen-als-by-jg-outreach-inc-5774
END:VEVENT

END:VCALENDAR
