BEGIN:VCALENDAR
VERSION:2.0
PRODID:-//ChamberMaster//Event Calendar 2.0//EN
METHOD:PUBLISH
X-PUBLISHED-TTL:P3D
REFRESH-INTERVAL:P3D
CALSCALE:GREGORIAN
BEGIN:VEVENT
DTSTART;VALUE=DATE:20251208
DTEND;VALUE=DATE:20251213
TRANSP:TRANSPARENT
X-MICROSOFT-CDO-ALLDAYEVENT:TRUE
SUMMARY:Chamber Bucks Bonus Buy
DESCRIPTION:Chamber Bucks BONUS Buy kicks off December 8th! \n\nBuy $25 in Chamber Bucks & pick an ornament from our tree and reveal your bonus bucks\n\n   Every ornament is a winner of $5\, $10\, $20\, $25 or $50\n\n   Limit of 2 ornaments per person.\n\n   Offer good while supplies last\, approximately 500 ornaments available.\n\n   Chamber Bucks make great gifts and can be spent at over 130 local businesses.\n\n\nWe are open Monday - Thursday - 8:00am - 4:00pm\n\nThese opportunities to shop local are made possible by our incredible community partners including:\n\nUnison Credit Union - Presenting Sponsor\n\nCity of Kaukauna\n\nVillage of Little Chute\n\nKaukauna Utilities\n\nBaisch Engineering\n\nThe Bank of Kaukauna\n\nVerkuilen-Van Deurzen Family Funeral Home\n\nAbel Insurance\n\nFox Communities Credit Union\n\nTDS Telecommunications LLC\n\nAhlstrom\n\nEast Wisconsin Savings Bank\n\nCMIT Solutions
X-ALT-DESC;FMTTYPE=text/html:<p class="04xlpa"><span style="font-size:18px\;"><span style="font-family:tahoma\;"><span style="color: rgb(5\, 5\, 5)\;">Chamber Bucks BONUS Buy kicks off&nbsp\;</span><span class="jsgrdq"><span style="color: black\;">December 8th!&nbsp\;</span></span></span></span></p>\n\n<div class="04xlpa"><strong>Buy $25 in Chamber Bucks &amp\; pick an ornament from our tree and reveal your bonus bucks</strong></div>\n\n<div class="04xlpa">&bull\;&nbsp\; Every ornament is a winner of $5\, $10\, $20\, $25 or $50</div>\n\n<div class="04xlpa">&bull\;&nbsp\; Limit of 2 ornaments per person.</div>\n\n<div class="04xlpa">&bull\;&nbsp\; Offer good while supplies last\, approximately 500 ornaments available.</div>\n\n<div class="04xlpa">&bull\;&nbsp\; Chamber Bucks make great gifts and can be spent at over 130 local businesses.</div>\n\n<div background-color:="" class="x14z9mp xat24cr x1lziwak x1vvkbs xtlvy1s x126k92a" color:="" font-size:="" segoe="" style="overflow-wrap: break-word\; white-space-collapse: preserve\; margin-top: 0.5em\; margin-inline: 0px\; margin-bottom: 0px\; font-family: " ui="">\n<div dir="auto" style="font-family: inherit\;"><strong>We are open Monday - Thursday - 8:00am - 4:00pm</strong></div>\n\n<div dir="auto" style="font-family: inherit\;">These opportunities to shop local are made possible by our incredible community partners including:<br />\nUnison Credit Union - <strong>Presenting Sponsor</strong><br />\nCity of Kaukauna<br />\nVillage of Little Chute<br />\nKaukauna Utilities<br />\nBaisch Engineering<br />\nThe Bank of Kaukauna<br />\nVerkuilen-Van Deurzen Family Funeral Home<br />\nAbel Insurance<br />\nFox Communities Credit Union<br />\nTDS Telecommunications LLC<br />\nAhlstrom<br />\nEast Wisconsin Savings Bank<br />\nCMIT Solutions<br />\n&nbsp\;</div>\n</div>\n
LOCATION:
UID:e.2456.5807
SEQUENCE:3
DTSTAMP:20260425T175341Z
URL:https://business.heartofthevalleychamber.com/events/details/chamber-bucks-bonus-buy-5807
END:VEVENT

END:VCALENDAR
