BEGIN:VCALENDAR
VERSION:2.0
PRODID:-//ChamberMaster//Event Calendar 2.0//EN
METHOD:PUBLISH
X-PUBLISHED-TTL:P3D
REFRESH-INTERVAL:P3D
CALSCALE:GREGORIAN
BEGIN:VEVENT
DTSTART:20260121T210000Z
DTEND:20260121T230000Z
X-MICROSOFT-CDO-ALLDAYEVENT:FALSE
SUMMARY:Cash Mob - The Little Bear Boutique AND Sweet Treats by Amy
DESCRIPTION:Join us for the January Cash Mob for The Little Boutique AND Sweet Treats by Amy! Buy some clothing for your little ones and grab a sweet treat!\n\n\n\nHere's how it works:\n\n  It's FREE to register and you get $10 in Chamber Bucks to spend at The Little Bear or Sweet Treats!\n\n  Participants are able to stop in any time during the event to use their Chamber Bucks.\n\n  Only 35 spots will be available\, so register while there's still spots!\n \n\nThese events are made possible because of our sponsors!\n\nThis Cash Mob is proudly presented by TDS!\n\nREGISTER NOW
X-ALT-DESC;FMTTYPE=text/html:<div background-color:="" class="m8h3af8h l7ghb35v kjdc1dyq kmwttqpk gh25dzvf" color:="" font-size:="" segoe="" style="overflow-wrap: break-word\; margin: 0px\; font-family: " ui=""><span style="color: rgb(118\, 118\, 118)\; font-family: &quot\;Open Sans&quot\;\, sans-serif\; font-size: 15px\;">Join us for the January Cash Mob for The Little Boutique AND Sweet Treats by Amy! Buy some clothing for your little ones and grab a sweet treat!</span><br style="color: rgb(118\, 118\, 118)\; font-family: &quot\;Open Sans&quot\;\, sans-serif\; font-size: 15px\;" />\n<br style="color: rgb(118\, 118\, 118)\; font-family: &quot\;Open Sans&quot\;\, sans-serif\; font-size: 15px\;" />\n<span style="color: rgb(118\, 118\, 118)\; font-family: &quot\;Open Sans&quot\;\, sans-serif\; font-size: 15px\;">Here&#39\;s how it works:</span><br style="color: rgb(118\, 118\, 118)\; font-family: &quot\;Open Sans&quot\;\, sans-serif\; font-size: 15px\; background-color: rgb(255\, 255\, 255)\;" />\n<span style="color: rgb(118\, 118\, 118)\; font-family: &quot\;Open Sans&quot\;\, sans-serif\; font-size: 15px\; background-color: rgb(255\, 255\, 255)\;">&#128717\; It&#39\;s FREE to register and you get $10 in Chamber Bucks to spend at The Little Bear or Sweet Treats!</span><br style="color: rgb(118\, 118\, 118)\; font-family: &quot\;Open Sans&quot\;\, sans-serif\; font-size: 15px\; background-color: rgb(255\, 255\, 255)\;" />\n<span style="color: rgb(118\, 118\, 118)\; font-family: &quot\;Open Sans&quot\;\, sans-serif\; font-size: 15px\; background-color: rgb(255\, 255\, 255)\;">&#128717\; Participants are able to stop in any time during the event to use their Chamber Bucks.</span><br style="color: rgb(118\, 118\, 118)\; font-family: &quot\;Open Sans&quot\;\, sans-serif\; font-size: 15px\; background-color: rgb(255\, 255\, 255)\;" />\n<span style="color: rgb(118\, 118\, 118)\; font-family: &quot\;Open Sans&quot\;\, sans-serif\; font-size: 15px\; background-color: rgb(255\, 255\, 255)\;">&#128717\; Only 35 spots will be available\, so register while there&#39\;s still spots!</span></div>\n&nbsp\;\n\n<div background-color:="" class="l7ghb35v kjdc1dyq kmwttqpk gh25dzvf jikcssrz" color:="" font-size:="" segoe="" style="overflow-wrap: break-word\; margin: 0.5em 0px 0px\;" ui="">These events are made possible because of our sponsors!<br />\n<strong style="color: rgb(5\, 5\, 5)\; white-space-collapse: preserve\; font-family: tahoma\; font-size: 14px\;">This Cash Mob is proudly presented by TDS!<br />\n<a href="https://lp.constantcontactpages.com/ev/reg/warswq5/lp/15d6eae3-364a-484c-8d73-ef0feec222ed"><span style="color:#B22222\;"><span style="font-size:20px\;">REGISTER NOW</span></span></a></strong><br />\n&nbsp\;</div>\n
LOCATION:370 E Ann St\, Kaukauna
UID:e.2456.5798
SEQUENCE:3
DTSTAMP:20260425T161741Z
URL:https://business.heartofthevalleychamber.com/events/details/cash-mob-the-little-bear-boutique-and-sweet-treats-by-amy-5798
END:VEVENT

END:VCALENDAR
