BEGIN:VCALENDAR
VERSION:2.0
PRODID:-//ChamberMaster//Event Calendar 2.0//EN
METHOD:PUBLISH
X-PUBLISHED-TTL:P3D
REFRESH-INTERVAL:P3D
CALSCALE:GREGORIAN
BEGIN:VEVENT
DTSTART:20251210T210000Z
DTEND:20251210T230000Z
X-MICROSOFT-CDO-ALLDAYEVENT:FALSE
SUMMARY:Cash Mob at Memorial Florists & Greenhouses
DESCRIPTION:Join us for the December Cash Mob at Memorial Florists & Greenhouses!  A Long-standing florist crafting arrangements for special occasions and offering delivery\, as well as plants and gifts. Make sure to hang around and have some wine after your purchase in their new Legacy Lounge!\n\n\n\nHere's how it works:\n\n  It's FREE to register and you get a FREE $10 in Chamber Bucks to spend at the event.\n\n  The only catch is that you need to spend an additional $20 of your own on the day of the event!\n\n  Participants are able to stop in any time during the event to use their Chamber Bucks.\n\n  Only 35 spots will be available\, so register while there's still spots!\n\n\n\nREGISTER HERE\n\n\n\nThe goal of our Cash Mob events is to support the great local businesses in our community and provide you with a great way to get to know new businesses in the Heart of the Valley.\n\n\n\nThank you to our sponsor for making this possible!\n\nLori Dibbs & Associates
X-ALT-DESC;FMTTYPE=text/html:<div background-color:="" class="m8h3af8h l7ghb35v kjdc1dyq kmwttqpk gh25dzvf" color:="" font-size:="" segoe="" style="overflow-wrap: break-word\; margin: 0px\; font-family: " ui="">Join us for the December Cash Mob at Memorial Florists &amp\; Greenhouses!&nbsp\;&nbsp\;A Long-standing florist crafting arrangements for special occasions and offering delivery\, as well as plants and gifts. Make sure to hang around and have some wine after your purchase in their new Legacy Lounge!<br />\n<br />\n<span style="color: rgb(118\, 118\, 118)\; font-family: &quot\;Open Sans&quot\;\, sans-serif\; font-size: 15px\;">Here&#39\;s how it works:</span><br style="color: rgb(118\, 118\, 118)\; font-family: &quot\;Open Sans&quot\;\, sans-serif\; font-size: 15px\;" />\n<span style="color: rgb(118\, 118\, 118)\; font-family: &quot\;Open Sans&quot\;\, sans-serif\; font-size: 15px\;">&#128717\; It&#39\;s FREE to register and you get a FREE $10 in Chamber Bucks to spend at the event.</span><br style="color: rgb(118\, 118\, 118)\; font-family: &quot\;Open Sans&quot\;\, sans-serif\; font-size: 15px\;" />\n<span style="color: rgb(118\, 118\, 118)\; font-family: &quot\;Open Sans&quot\;\, sans-serif\; font-size: 15px\;">&#128717\; The only catch is that you need to spend an additional $20 of your own on the day of the event!</span><br style="color: rgb(118\, 118\, 118)\; font-family: &quot\;Open Sans&quot\;\, sans-serif\; font-size: 15px\;" />\n<span style="color: rgb(118\, 118\, 118)\; font-family: &quot\;Open Sans&quot\;\, sans-serif\; font-size: 15px\;">&#128717\; Participants are able to stop in any time during the event to use their Chamber Bucks.</span><br style="color: rgb(118\, 118\, 118)\; font-family: &quot\;Open Sans&quot\;\, sans-serif\; font-size: 15px\;" />\n<span style="color: rgb(118\, 118\, 118)\; font-family: &quot\;Open Sans&quot\;\, sans-serif\; font-size: 15px\;">&#128717\; Only 35 spots will be available\, so register while there&#39\;s still spots!</span><br />\n<br />\n<a href="https://lp.constantcontactpages.com/ev/reg/uwaukxq/lp/87cb4b47-6891-485e-8bc9-545695e345f4"><span style="font-size:18px\;"><span style="color:#FF0000\;"><strong>REGISTER HERE</strong></span></span></a></div>\n\n<div background-color:="" class="l7ghb35v kjdc1dyq kmwttqpk gh25dzvf jikcssrz" color:="" font-size:="" segoe="" style="overflow-wrap: break-word\; margin: 0.5em 0px 0px\; font-family: " ui=""><br />\nThe goal of our Cash Mob events is to support the great local businesses in our community and provide you with a great way to get to know new businesses in the Heart of the Valley.<br />\n<br />\n<strong>Thank you to our&nbsp\;sponsor for making this possible!</strong><br />\nLori Dibbs &amp\; Associates\n<div>&nbsp\;</div>\n</div>\n
LOCATION:2320 S Memorial Dr. Appleton
UID:e.2456.5769
SEQUENCE:3
DTSTAMP:20260425T193517Z
URL:https://business.heartofthevalleychamber.com/events/details/cash-mob-at-memorial-florists-greenhouses-5769
END:VEVENT

END:VCALENDAR
