BEGIN:VCALENDAR
VERSION:2.0
PRODID:-//ChamberMaster//Event Calendar 2.0//EN
METHOD:PUBLISH
X-PUBLISHED-TTL:P3D
REFRESH-INTERVAL:P3D
CALSCALE:GREGORIAN
BEGIN:VEVENT
DTSTART:20250814T140000Z
DTEND:20250814T153000Z
X-MICROSOFT-CDO-ALLDAYEVENT:FALSE
SUMMARY:Business Card Exchange - Vande Hey Company & Dunkin Donuts
DESCRIPTION:Attend our August Business Card Exchange hosted by Vande Hey Company and Dunkin Donuts! Connect with local professionals in a relaxed setting by sharing who you are and what you do within your company. You will be able to meet 50+ local businesses and network with them. Bring plenty of business cards and get ready to make new connections!\n\n\n\nThank you to our incredible sponsors!\n\nVande Hey Company\, Inc\n\nDunkin Donuts and Baskin Robbins
X-ALT-DESC;FMTTYPE=text/html:Attend our August Business Card Exchange hosted by Vande Hey Company and Dunkin Donuts! Connect with local professionals in a relaxed setting by sharing who you are and what you do within your company. You will be able to meet 50+ local businesses and network with them. Bring plenty of business cards and get ready to make new connections!<br />\n<br />\n<span style="font-size:14px\;"><span style="color:#FF0000\;">Thank you to our incredible sponsors!</span></span><br />\n<strong>Vande Hey Company\, Inc<br />\nDunkin Donuts and Baskin Robbins</strong>
LOCATION:N2093 County Rd N\, Appleton
UID:e.2456.4714
SEQUENCE:3
DTSTAMP:20260426T002759Z
URL:https://business.heartofthevalleychamber.com/events/details/business-card-exchange-vande-hey-company-dunkin-donuts-4714
END:VEVENT

END:VCALENDAR
