BEGIN:VCALENDAR
VERSION:2.0
PRODID:-//ChamberMaster//Event Calendar 2.0//EN
METHOD:PUBLISH
X-PUBLISHED-TTL:P3D
REFRESH-INTERVAL:P3D
CALSCALE:GREGORIAN
BEGIN:VEVENT
DTSTART:20251113T150000Z
DTEND:20251113T163000Z
X-MICROSOFT-CDO-ALLDAYEVENT:FALSE
SUMMARY:Business Card Exchange - Skate City
DESCRIPTION:Network and have fun at Skate City's Business Card Exchange! Connect with local professionals in a relaxed setting by sharing who you are and what you do within your company. You will be able to meet 50+ local businesses and network with them after while skating!! Bring plenty of business cards and get ready to make new connections while having a blast on the rink.\n\n\n\nSee you on the skates!
X-ALT-DESC;FMTTYPE=text/html:Network and have fun at Skate City&#39\;s Business Card Exchange! Connect with local professionals in a relaxed setting by sharing who you are and what you do within your company. You will be able to meet 50+ local businesses and network with them after while skating!! Bring plenty of business cards and get ready to make new connections while having a blast on the rink.<br />\n<br />\nSee you on the skates!\n<div>&nbsp\;</div>\n
LOCATION:Skate City 708 S. Railroad St.\, Kimberly
UID:e.2456.5752
SEQUENCE:3
DTSTAMP:20260425T193201Z
URL:https://business.heartofthevalleychamber.com/events/details/business-card-exchange-skate-city-5752
END:VEVENT

END:VCALENDAR
