BEGIN:VCALENDAR
VERSION:2.0
PRODID:-//ChamberMaster//Event Calendar 2.0//EN
METHOD:PUBLISH
X-PUBLISHED-TTL:P3D
REFRESH-INTERVAL:P3D
CALSCALE:GREGORIAN
BEGIN:VEVENT
DTSTART:20260514T140000Z
DTEND:20260514T153000Z
X-MICROSOFT-CDO-ALLDAYEVENT:FALSE
SUMMARY:Business Card Exchange - Mary Beth Neinhaus Activiy Center
DESCRIPTION:Attend our May Business Card Exchange hosted by Mary Beth Neinhaus Activity Center! Connect with local professionals in a relaxed setting by sharing who you are and what you do within your company. You will be able to meet 50+ local businesses and network with them. Bring plenty of business cards and get ready to make new connections!
X-ALT-DESC;FMTTYPE=text/html:Attend our May Business Card Exchange hosted by Mary Beth Neinhaus Activity Center! Connect with local professionals in a relaxed setting by sharing who you are and what you do within your company. You will be able to meet 50+ local businesses and network with them. Bring plenty of business cards and get ready to make new connections!
LOCATION:3000 E College Ave Suite B\, Appleton
UID:e.2456.5975
SEQUENCE:3
DTSTAMP:20260425T130212Z
URL:https://business.heartofthevalleychamber.com/events/details/business-card-exchange-mary-beth-neinhaus-activiy-center-5975
END:VEVENT

END:VCALENDAR
