BEGIN:VCALENDAR
VERSION:2.0
PRODID:-//ChamberMaster//Event Calendar 2.0//EN
METHOD:PUBLISH
X-PUBLISHED-TTL:P3D
REFRESH-INTERVAL:P3D
CALSCALE:GREGORIAN
BEGIN:VEVENT
DTSTART:20250911T140000Z
DTEND:20250911T153000Z
X-MICROSOFT-CDO-ALLDAYEVENT:FALSE
SUMMARY:Business Card Exchange - Community First Credit Union & Dunkin
DESCRIPTION:Attend our September Business Card Exchange hosted by Community First Credit Union and Dunkin Donuts!! Connect with local professionals in a relaxed setting by sharing who you are and what you do within your company. You will be able to meet 50+ local businesses and network with them. Bring plenty of business cards and get ready to make new connections!\n\n\nDunkin Donuts will be providing donuts\, coffee\, and refreshing drinks!
X-ALT-DESC;FMTTYPE=text/html:Attend our September Business Card Exchange hosted by Community First Credit Union and Dunkin Donuts!! Connect with local professionals in a relaxed setting by sharing who you are and what you do within your company. You will be able to meet 50+ local businesses and network with them. Bring plenty of business cards and get ready to make new connections!\n<div><br />\nDunkin Donuts will be providing donuts\, coffee\, and refreshing drinks!</div>\n
LOCATION:1575 Dresang Way Neenah\, WI 54956
UID:e.2456.4722
SEQUENCE:3
DTSTAMP:20260425T225207Z
URL:https://business.heartofthevalleychamber.com/events/details/business-card-exchange-community-first-credit-union-dunkin-4722
END:VEVENT

END:VCALENDAR
