BEGIN:VCALENDAR
VERSION:2.0
PRODID:-//ChamberMaster//Event Calendar 2.0//EN
METHOD:PUBLISH
X-PUBLISHED-TTL:P3D
REFRESH-INTERVAL:P3D
CALSCALE:GREGORIAN
BEGIN:VEVENT
DTSTART:20251009T140000Z
DTEND:20251009T153000Z
X-MICROSOFT-CDO-ALLDAYEVENT:FALSE
SUMMARY:Business Card Exchange at Electric City Lanes
DESCRIPTION:Attend our October Business Card Exchange hosted by Electric City Lanes and BIGGBY Coffee! Connect with local professionals in a relaxed setting by sharing who you are and what you do within your company. You will be able to meet 50+ local businesses and network with them. Bring plenty of business cards and get ready to make new connections!\n\n\n\nThank you to our incredible sponsors!\n\nElectric City Lanes\n\nBIGGBY Coffee
X-ALT-DESC;FMTTYPE=text/html:Attend our October Business Card Exchange hosted by Electric City Lanes and BIGGBY Coffee! Connect with local professionals in a relaxed setting by sharing who you are and what you do within your company. You will be able to meet 50+ local businesses and network with them. Bring plenty of business cards and get ready to make new connections!<br />\n<br />\n<span style="font-size:14px\;"><span style="color:#FF0000\;">Thank you to our incredible sponsors!</span></span><br />\n<b>Electric City Lanes<br />\nBIGGBY Coffee</b>
LOCATION:136 W Wisconsin Ave Kaukauna\, WI 54130
UID:e.2456.5773
SEQUENCE:3
DTSTAMP:20260425T212015Z
URL:https://business.heartofthevalleychamber.com/events/details/business-card-exchange-at-electric-city-lanes-5773
END:VEVENT

END:VCALENDAR
