BEGIN:VCALENDAR
VERSION:2.0
PRODID:-//ChamberMaster//Event Calendar 2.0//EN
METHOD:PUBLISH
X-PUBLISHED-TTL:P3D
REFRESH-INTERVAL:P3D
CALSCALE:GREGORIAN
BEGIN:VEVENT
DTSTART:20251211T150000Z
DTEND:20251211T163000Z
X-MICROSOFT-CDO-ALLDAYEVENT:FALSE
SUMMARY:Business Card Exchange at Badger Sports Park
DESCRIPTION:Attend our monthly Business Card Exchange to meet new people\, broaden your network and share your personal brand! You will have the opportunity to introduce yourself and your business.\n\nBring your business card and/or marketing collateral you wish to share. You will get a chance to meet and network with over 50 businesses and nonprofit organizations. \n\n\n\nCoffee and donuts will be provided by Dunkin Donuts!\n\nWe recommend approximately 50 cards / handouts.
X-ALT-DESC;FMTTYPE=text/html:<p><span style="font-size:14px\;"><span background-color:="" font-size:="" segoe="" style="color: rgb(5\, 5\, 5)\; font-family: " ui="">Attend our monthly Business Card Exchange to meet new people\, broaden your network and share your personal brand! You will have the opportunity to introduce yourself and your business.<br />\nBring your business card and/or marketing collateral you wish to share.&nbsp\;You will get a chance to meet and network with over 50 businesses and nonprofit organizations.&nbsp\;</span></span><br />\n<br />\n<span style="color: rgb(5\, 5\, 5)\; font-family: sans-serif\, Arial\, Verdana\, &quot\;Trebuchet MS&quot\;\; font-size: 14px\; background-color: rgb(255\, 255\, 255)\;">Coffee and donuts will be provided by Dunkin Donuts!</span></p>\n\n<p style="margin-top: 0px\; margin-right: 0px\; margin-bottom: 0px\; padding: 0px\; color: rgb(128\, 143\, 166)\; font-family: Arial\, Verdana\, Helvetica\, sans-serif\; font-size: 20px\; font-weight: 700\; white-space-collapse: preserve\; background-color: rgb(255\, 255\, 255)\;"><strong><span style="font-size:14px\;"><span style="color: rgb(51\, 51\, 51)\; font-weight: normal\;">We recommend approximately 50 cards / handouts.</span></span></strong></p>\n
LOCATION:3600 E Evergreen Dr. Appleton
UID:e.2456.5808
SEQUENCE:3
DTSTAMP:20260425T180805Z
URL:https://business.heartofthevalleychamber.com/events/details/business-card-exchange-at-badger-sports-park-12-11-2025-5808
END:VEVENT

END:VCALENDAR
