BEGIN:VCALENDAR
VERSION:2.0
PRODID:-//ChamberMaster//Event Calendar 2.0//EN
METHOD:PUBLISH
X-PUBLISHED-TTL:P3D
REFRESH-INTERVAL:P3D
CALSCALE:GREGORIAN
BEGIN:VEVENT
DTSTART:20250925T213000Z
DTEND:20250925T233000Z
X-MICROSOFT-CDO-ALLDAYEVENT:FALSE
SUMMARY:Business After Hours w/ Fox West Chamber Hosted by Fox Cities Sign
DESCRIPTION:Join us for a Business After Hours with the Heart of the Valley Chamber and Fox West Chamber at Fox Cities Sign!\n\n\n\nEnjoy a fun networking event with food trucks\, games\, and more!!\n\n\n\nFood Trucks:\n\nTria Frog Treats\n\nBig Axe Chops
X-ALT-DESC;FMTTYPE=text/html:Join us for a Business After Hours with the Heart of the Valley Chamber and Fox West Chamber at Fox Cities Sign!<br />\n<br />\nEnjoy a fun networking event with food trucks\, games\, and more!!<br />\n<br />\nFood Trucks:<br />\nTria Frog Treats<br />\nBig Axe Chops<br />\n&nbsp\;
LOCATION:Fox Cities Sign - 2375 W Nordale Dr. Appleton\, WI 54914
UID:e.2456.5763
SEQUENCE:3
DTSTAMP:20260425T225207Z
URL:https://business.heartofthevalleychamber.com/events/details/business-after-hours-w-fox-west-chamber-hosted-by-fox-cities-sign-5763
END:VEVENT

END:VCALENDAR
