BEGIN:VCALENDAR
VERSION:2.0
PRODID:-//ChamberMaster//Event Calendar 2.0//EN
METHOD:PUBLISH
X-PUBLISHED-TTL:P3D
REFRESH-INTERVAL:P3D
CALSCALE:GREGORIAN
BEGIN:VEVENT
DTSTART:20251202T223000Z
DTEND:20251203T003000Z
X-MICROSOFT-CDO-ALLDAYEVENT:FALSE
SUMMARY:Business After Hours & Ugly Sweater Party
DESCRIPTION:'Tis the season! Get your ugly Christmas sweaters\, hats\, suits\, dresses\, or any festive attire out and join us at this fun After Hours.\n\n\n\nGet in the Holiday Spirit!  We encourage each person bring a wrapped gift to put under the tree so you can all go home with a present of some sort! This is not mandatory and we are not expecting you to buy anything but rather bring any type of marketing collateral\, fun promo items\, or anything you have at your company already!\n\n\n\nThis event is co-hosted with Heart of the Valley Chamber\, Fox West Chamber\, De Pere Area Chamber\, and Appleton North Business Association! Any and all members are invited to join us. Holiday snacks and cash bar available. \n\n\n\nWe will be handing out prizes for:\n\n	Most Ugly\n	Most Festive\n	Most Creative\n	Most Tacky\n\nJoin us and get your holiday on!
X-ALT-DESC;FMTTYPE=text/html:<span style="font-family:arial\;"><span style="font-size:14px\;"><span style="color: rgb(51\, 51\, 51)\;"><span style="background-color: rgb(255\, 255\, 255)\;">&#39\;Tis the season! Get your ugly Christmas sweaters\, hats\, suits\, dresses\, or any festive attire out and join us at this fun After Hours.<br />\n<br />\n<strong>Get in the Holiday Spirit!&nbsp\;</strong>&nbsp\;We encourage&nbsp\;</span></span><span style="color: rgb(51\, 51\, 51)\;"><strong>each person bring a wrapped gift </strong>to put under the tree so you can all go home with a present of some sort! This is not mandatory and we are not expecting you to buy anything but rather bring any <strong>type of marketing collateral\, fun promo items\, or anything you have at your company already</strong>!</span><br font-size:="" style="color: rgb(51\, 51\, 51)\; font-family: sans-serif\, Arial\, Verdana\, " trebuchet="" />\n<br font-size:="" style="color: rgb(51\, 51\, 51)\; font-family: sans-serif\, Arial\, Verdana\, " trebuchet="" />\n<span style="color: rgb(51\, 51\, 51)\;"><span style="background-color: rgb(255\, 255\, 255)\;">This event is co-hosted with <strong>Heart of the Valley Chamber\,</strong>&nbsp\;<strong>Fox West Chamber\, De Pere Area Chamber\, and Appleton North Business Association</strong>! Any and all members are invited to join us. Holiday snacks and cash bar available.&nbsp\;<br />\n<br />\n<strong>We will be handing out prizes for:</strong></span></span></span></span>\n<ul font-size:="" style="padding: 0px 40px\; color: rgb(51\, 51\, 51)\; font-family: sans-serif\, Arial\, Verdana\, " trebuchet="">\n	<li><span style="font-family:arial\;"><span style="font-size:14px\;"><span style="background-color: rgb(255\, 255\, 255)\;">Most Ugly</span></span></span></li>\n	<li><span style="font-family:arial\;"><span style="font-size:14px\;"><span style="background-color: rgb(255\, 255\, 255)\;">Most Festive</span></span></span></li>\n	<li><span style="font-family:arial\;"><span style="font-size:14px\;"><span style="background-color: rgb(255\, 255\, 255)\;">Most Creative</span></span></span></li>\n	<li><span style="font-family:arial\;"><span style="font-size:14px\;"><span style="background-color: rgb(255\, 255\, 255)\;">Most Tacky</span></span></span></li>\n</ul>\n<span style="font-family:arial\;"><span style="font-size:14px\;"><span style="color: rgb(51\, 51\, 51)\;"><span style="background-color: rgb(255\, 255\, 255)\;">Join us and get your holiday on!&nbsp\;</span></span></span></span><br />\n&nbsp\;
LOCATION:The Fox Club - Located in Fox Cities Stadium 2400 N Casaloma Drive\, Appleton\, WI 54913
UID:e.2456.5749
SEQUENCE:3
DTSTAMP:20260425T175357Z
URL:https://business.heartofthevalleychamber.com/events/details/business-after-hours-ugly-sweater-party-5749
END:VEVENT

END:VCALENDAR
