BEGIN:VCALENDAR
VERSION:2.0
PRODID:-//ChamberMaster//Event Calendar 2.0//EN
METHOD:PUBLISH
X-PUBLISHED-TTL:P3D
REFRESH-INTERVAL:P3D
CALSCALE:GREGORIAN
BEGIN:VEVENT
DTSTART:20260521T210000Z
DTEND:20260521T230000Z
X-MICROSOFT-CDO-ALLDAYEVENT:FALSE
SUMMARY:Business After Hours Hosted by Sure-Dry\, LLC
DESCRIPTION:Saddle up and join us for a western themed Business After Hours at Sure Dry Ranch!\n\nStep into a rustic ranch setting and enjoy an evening of connection\, conversation\, and a little country flair. Whether you're looking to grow your network\, catch up with familiar faces\, or just unwind after the workday\, this is the place to be.\n\nEnjoy delicious food from Parker John's\, along with drinks\, desserts\, and a few fun surprises along the way. Throw on your boots\, grab your hat if you have one\, and get ready for a laid back evening with the Chamber community.\n\nWe'll see you at the ranch!
X-ALT-DESC;FMTTYPE=text/html:<p data-end="238" data-start="156">Saddle up and join us for a western themed Business After Hours at Sure Dry Ranch!</p>\n\n<p data-end="484" data-start="240">Step into a rustic ranch setting and enjoy an evening of connection\, conversation\, and a little country flair. Whether you&rsquo\;re looking to grow your network\, catch up with familiar faces\, or just unwind after the workday\, this is the place to be.</p>\n\n<p data-end="712" data-start="486">Enjoy delicious food from Parker John&rsquo\;s\, along with drinks\, desserts\, and a few fun surprises along the way. Throw on your boots\, grab your hat if you have one\, and get ready for a laid back evening with the Chamber community.</p>\n\n<p data-end="741" data-start="714">We&rsquo\;ll see you at the ranch!</p>\n
LOCATION:754 W Airport Rd. Menasha
UID:e.2456.5976
SEQUENCE:3
DTSTAMP:20260425T130146Z
URL:https://business.heartofthevalleychamber.com/events/details/business-after-hours-hosted-by-sure-dry-llc-5976
END:VEVENT

END:VCALENDAR
