BEGIN:VCALENDAR
VERSION:2.0
PRODID:-//ChamberMaster//Event Calendar 2.0//EN
METHOD:PUBLISH
X-PUBLISHED-TTL:P3D
REFRESH-INTERVAL:P3D
CALSCALE:GREGORIAN
BEGIN:VEVENT
DTSTART:20260219T223000Z
DTEND:20260220T003000Z
X-MICROSOFT-CDO-ALLDAYEVENT:FALSE
SUMMARY:Business After Hours hosted by East Wisconsin Savings Bank
DESCRIPTION:Business After Hours: EWSB Open\n\nJoin us for Business After Hours on Thursday\, February 19\, featuring a golf-themed networking experience at EWSB. Attendees will have the opportunity to participate in a variety of golf-style games throughout the branch\, including putting and chip challenges\, while enjoying beverages and light snacks.\n\nRaffle tickets will be available for purchase to participate in the games. Successful plays will earn entries into a combined raffle\, with prize baskets drawn at 6:15 PM. All raffle proceeds will be donated to Feeding America.\nEast Wisconsin Savings Bank will be providing beverages and appetizers!\n\n\n\nThis event is a great way to make new connections with your fellow chamber members and expand your network! We can't wait to see you all there!
X-ALT-DESC;FMTTYPE=text/html:<p data-end="477" data-start="131"><strong data-end="166" data-start="131">Business After Hours: EWSB Open</strong><br data-end="169" data-start="166" />\nJoin us for Business After Hours on <strong data-end="230" data-start="205">Thursday\, February 19</strong>\, featuring a golf-themed networking experience at EWSB. Attendees will have the opportunity to participate in a variety of golf-style games throughout the branch\, including putting and chip challenges\, while enjoying beverages and light snacks.</p>\n\n<p data-end="715" data-start="479">Raffle tickets will be available for purchase to participate in the games. Successful plays will earn entries into a combined raffle\, with <strong data-end="652" data-start="618">prize baskets drawn at 6:15 PM</strong>. <strong data-end="713" data-start="654">All raffle proceeds will be donated to Feeding America.</strong></p>\nEast Wisconsin Savings Bank will be providing beverages and appetizers!<br />\n<br />\nThis event is a great way to make new connections with your fellow chamber members and expand your network! We can&#39\;t wait to see you all there!&nbsp\;
LOCATION:109 W 2nd Street Kaukauna\, WI 54130
UID:e.2456.5814
SEQUENCE:3
DTSTAMP:20260425T143424Z
URL:https://business.heartofthevalleychamber.com/events/details/business-after-hours-hosted-by-east-wisconsin-savings-bank-5814
END:VEVENT

END:VCALENDAR
