BEGIN:VCALENDAR
VERSION:2.0
PRODID:-//ChamberMaster//Event Calendar 2.0//EN
METHOD:PUBLISH
X-PUBLISHED-TTL:P3D
REFRESH-INTERVAL:P3D
CALSCALE:GREGORIAN
BEGIN:VEVENT
DTSTART:20251106T143000Z
DTEND:20251106T160000Z
X-MICROSOFT-CDO-ALLDAYEVENT:FALSE
SUMMARY:Behind the Badge: Meet Local Law Enforcement & First Responders
DESCRIPTION:Join us for Behind the Badge\, a new event that brings together local law enforcement\, firefighters\, EMTs\, and dispatchers for a behind-the-scenes look at what it really takes to protect and serve our community.\n\nThank you to our event partner and moderator\, Megan Mulholland\, owner of Compass Communications! \n\nThis event will be held in the lower level at the Heart of the Valley Chamber.\n\n\n\nWhat you'll take away:\n\n	A deeper understanding of the challenges and experiences faced by first responders\n	Practical tips to keep your business and employees safe\n	Candid stories from the field you won't hear anywhere else\n	Ideas for how businesses and public safety agencies can work together to build a stronger\, safer community\n\n\nThis is more than just a panel   it's a chance to connect\, ask questions\, and build relationships with the people who are there when it matters most.\n\n\n\nLet's bridge the gap between business and public safety   Register now & join us for this impactful conversation!\n\n \n\n***Morning Hospitality will be provided by Biggby! \n\n\n\nMeet our Panelists:\n\n\n	Jeff Grimm\, Program Manager\, ThedaStar\n	Chief Jeremy Hansen\, Appleton Fire Department\n	Deputy Chief Angie Hanchek\, Menasha Police Department\n	Chief Jamie Graff\, Kaukauna PD\n	Chief Polly Olson\, Appleton PD\n	Heather Fischer - 911 Dispatcher with the Outagamie County Sheriff's Office Communications Center.\n	Chief Jake Carrel   Kaukauna Fire Department
X-ALT-DESC;FMTTYPE=text/html:<span style="font-size:18px\;">Join us for <strong>Behind the Badge</strong>\, a new event that brings together local <strong>l</strong>aw enforcement\, firefighters\, EMTs\, and dispatchers for a behind-the-scenes look at what it really takes to protect and serve our community.<br />\nThank you to our event partner and moderator\, Megan Mulholland\, owner of Compass Communications!&nbsp\;<br />\n<b>This event will be held in the lower level at the Heart of the Valley Chamber.</b><br />\n<br />\n<strong>What you&rsquo\;ll take away:</strong></span>\n<ul>\n	<li><span style="font-size:18px\;">A deeper understanding of the challenges and experiences faced by first responders</span></li>\n	<li><span style="font-size:18px\;">Practical tips to keep your business and employees safe</span></li>\n	<li><span style="font-size:18px\;">Candid stories from the field you won&rsquo\;t hear anywhere else</span></li>\n	<li><span style="font-size:18px\;">Ideas for how businesses and public safety agencies can work together&nbsp\;to build a stronger\, safer community</span></li>\n</ul>\n\n<p><span style="font-size:18px\;">This is more than just a panel &mdash\; it&rsquo\;s a chance to connect\, ask questions\, and build relationships with the people who are there when it matters most.<br />\n<br />\nLet&rsquo\;s bridge the gap between business and public safety &mdash\; Register now &amp\; join us for this impactful conversation!</span><br />\n&nbsp\;</p>\n\n<p><span style="font-size:18px\;">***<strong>Morning Hospitality will be provided by Biggby</strong>!&nbsp\;<br />\n<br />\n<strong>Meet our Panelists:</strong></span></p>\n\n<ul>\n	<li style="margin-left:0in\;"><span style="font-size:18px\;"><strong>Jeff Grimm\,</strong> Program Manager\, ThedaStar</span></li>\n	<li style="margin-left:0in\;"><span style="font-size:18px\;"><strong>Chief Jeremy Hansen</strong>\, Appleton Fire Department</span></li>\n	<li style="margin-left:0in\;"><span style="font-size:18px\;"><strong>Deputy Chief&nbsp\;Angie Hanchek</strong>\, Menasha Police Department</span></li>\n	<li style="margin-left:0in\;"><span style="font-size:18px\;"><strong>Chief Jamie Graff</strong>\, Kaukauna PD</span></li>\n	<li style="margin-left:0in\;"><span style="font-size:18px\;"><strong>Chief Polly Olson</strong>\, Appleton PD</span></li>\n	<li style="margin-left:0in\;"><span style="font-size:18px\;"><strong>Heather Fischer </strong>- 911 Dispatcher with the Outagamie County Sheriff&rsquo\;s Office Communications Center.</span></li>\n	<li style="margin-left:0in\;"><span style="font-size:18px\;"><strong>Chief Jake Carrel </strong>&ndash\; Kaukauna Fire Department</span></li>\n</ul>\n<br />\n<br />\n&nbsp\;
LOCATION:Heart of the Valley Chamber Lower Level
UID:e.2456.5771
SEQUENCE:3
DTSTAMP:20260425T193439Z
URL:https://business.heartofthevalleychamber.com/events/details/behind-the-badge-meet-local-law-enforcement-first-responders-5771
END:VEVENT

END:VCALENDAR
