BEGIN:VCALENDAR
VERSION:2.0
PRODID:-//ChamberMaster//Event Calendar 2.0//EN
METHOD:PUBLISH
X-PUBLISHED-TTL:P3D
REFRESH-INTERVAL:P3D
CALSCALE:GREGORIAN
BEGIN:VEVENT
DTSTART:20250811T220000Z
DTEND:20250811T233000Z
X-MICROSOFT-CDO-ALLDAYEVENT:FALSE
SUMMARY:AEGIS Financial Wealth & Wine: Social Security
DESCRIPTION:Answering Questions on Social Security Benefits: Claiming Social Security benefits usually is preceded by numerous questions. When to file? Can I still work while receiving benefits? What if my spouse died? How does my recent marriage or divorce affect my benefits? This seminar seeks to shed light on those questions and is specifically geared toward individuals aged 60 to 70 years old.\n\n\n\nRSVP Required by 8/1/25\n\nRSVP Here: https://lp.constantcontactpages.com/ev/reg/3xqgdtp
X-ALT-DESC;FMTTYPE=text/html:Answering Questions on Social Security Benefits: Claiming Social Security benefits usually is preceded by numerous questions. When to file? Can I still work while receiving benefits? What if my spouse died? How does my recent marriage or divorce affect my benefits? This seminar seeks to shed light on those questions and is specifically geared toward individuals aged 60 to 70 years old.<br />\n<br />\nRSVP Required by 8/1/25<br />\nRSVP Here: <a href="https://lp.constantcontactpages.com/ev/reg/3xqgdtp">https://lp.constantcontactpages.com/ev/reg/3xqgdtp</a>
LOCATION:Xe54: a Wine & Cocktail Lounge 1350 W American Dr Neenah\, WI 54956
UID:e.2456.4719
SEQUENCE:3
DTSTAMP:20260419T183817Z
URL:https://business.heartofthevalleychamber.com/events/details/aegis-financial-wealth-wine-social-security-4719
END:VEVENT

END:VCALENDAR
