BEGIN:VCALENDAR
VERSION:2.0
PRODID:-//ChamberMaster//Event Calendar 2.0//EN
METHOD:PUBLISH
X-PUBLISHED-TTL:P3D
REFRESH-INTERVAL:P3D
CALSCALE:GREGORIAN
BEGIN:VEVENT
DTSTART:20251106T173000Z
DTEND:20251106T190000Z
X-MICROSOFT-CDO-ALLDAYEVENT:FALSE
SUMMARY:AEGIS Financial Lunch & Learn: Year End Tax Planning
DESCRIPTION:Join us for Year-End Tax Planning Strategies\, a Lunch and Learn focused on making the most of your finances before the year wraps up. We'll cover key topics like RMDs\, QCDs\, IRA and Roth contributions\, HSA savings\, Roth conversions\, the SALT deduction\, and more helping you finish the year with a smart tax strategy in place!\n\n\n\nRSVP Required by 10/29/25\n\nRSVP Here: https://lp.constantcontactpages.com/ev/reg/e7q5qwp
X-ALT-DESC;FMTTYPE=text/html:Join us for Year-End Tax Planning Strategies\, a Lunch and Learn focused on making the most of your finances before the year wraps up. We&rsquo\;ll cover key topics like RMDs\, QCDs\, IRA and Roth contributions\, HSA savings\, Roth conversions\, the SALT deduction\, and more&mdash\;helping you finish the year with a smart tax strategy in place!<br />\n<br />\nRSVP Required by 10/29/25<br />\nRSVP Here:&nbsp\;<a href="https://lp.constantcontactpages.com/ev/reg/e7q5qwp">https://lp.constantcontactpages.com/ev/reg/e7q5qwp</a>
LOCATION:AEGIS Financial 4351 W College Ave Ste 110 Appleton\, WI United States
UID:e.2456.4717
SEQUENCE:3
DTSTAMP:20260425T201040Z
URL:https://business.heartofthevalleychamber.com/events/details/aegis-financial-lunch-learn-year-end-tax-planning-4717
END:VEVENT

END:VCALENDAR
